BEGIN:VCALENDAR
VERSION:2.0
PRODID:-//ChamberMaster//Event Calendar 2.0//EN
METHOD:PUBLISH
X-PUBLISHED-TTL:P3D
REFRESH-INTERVAL:P3D
CALSCALE:GREGORIAN
BEGIN:VEVENT
DTSTART:20230606T200000Z
DTEND:20230606T220000Z
X-MICROSOFT-CDO-ALLDAYEVENT:FALSE
SUMMARY:2023 State of Business Summit
DESCRIPTION:Please join us at the 2023 State of Business Summit for a fireside chat with Bill Emerson\, Vice Chairman of Rock Holdings and Interim CEO of Rocket Mortgage\, the nation's largest mortgage lender.  The discussion will focus on the state of business and how current world events are impacting businesses right here in Ohio.  Following the fireside chat\, there will be a Legislative cocktail reception with members of the Ohio House and Senate.\n\n \n\nPlease feel free to contact Lindsey Perkins with any questions at (614) 629-0911.\n\n \n\nRegister Here\n\n \n\nAGENDA\n\n3:30 p.m. Doors Open\n\n4:00 p.m. Fireside Chat with Bill Emerson Begins in the Statehouse Atrium\n\n5:00 p.m. Legislative Cocktail Reception Begins in the Statehouse Rotunda
X-ALT-DESC;FMTTYPE=text/html:<p open="" style="box-sizing: border-box\; font-size: 17px\; font-family: "><span style="font-size:14px\;"><span style="font-family:arial\;">Please join us at the 2023 State of Business Summit for a fireside chat with Bill Emerson\, Vice Chairman of Rock Holdings and Interim CEO of Rocket Mortgage\, the nation&#39\;s largest mortgage lender.&nbsp\; The discussion will focus on the state of business and how current world events are impacting businesses right here in Ohio.&nbsp\; Following the fireside chat\, there will be a Legislative cocktail reception with members of the Ohio House and Senate.</span></span><br />\n&nbsp\;</p>\n\n<p open="" style="box-sizing: border-box\; font-size: 17px\; font-family: "><span style="font-size:14px\;"><span style="font-family:arial\;">Please feel free to contact Lindsey Perkins with any questions at (614) 629-0911.</span></span><br />\n&nbsp\;</p>\n\n<p open="" style="box-sizing: border-box\; font-size: 17px\; font-family: "><a href="https://events.r20.constantcontact.com/register/eventReg?oeidk=a07ejr8b198e04b3822&amp\;oseq=&amp\;c=&amp\;ch=">Register Here</a><br />\n&nbsp\;</p>\n\n<p open="" style="box-sizing: border-box\; font-size: 17px\; font-family: "><span style="font-size:14px\;"><span style="font-family:arial\;"><strong style="box-sizing: border-box\;">AGENDA<br style="box-sizing: border-box\;" />\n3:30 p.m. Doors Open</strong><br style="box-sizing: border-box\;" />\n<strong style="box-sizing: border-box\;">4:00 p.m. Fireside Chat with Bill Emerson Begins in the Statehouse Atrium</strong><br style="box-sizing: border-box\;" />\n<strong style="box-sizing: border-box\;">5:00 p.m. Legislative Cocktail Reception Begins in the Statehouse Rotunda</strong></span></span></p>\n\n<p open="" style="box-sizing: border-box\; font-size: 17px\; font-family: ">&nbsp\;</p>\n
LOCATION:1 Capitol Square Columbus\, OH 43215
UID:e.3559.2797
SEQUENCE:3
DTSTAMP:20260421T130047Z
URL:https://business.browncountyohiochamber.com/events/details/2023-state-of-business-summit-2797
END:VEVENT

END:VCALENDAR
