BEGIN:VCALENDAR
VERSION:2.0
PRODID:-//ChamberMaster//Event Calendar 2.0//EN
METHOD:PUBLISH
X-PUBLISHED-TTL:P3D
REFRESH-INTERVAL:P3D
CALSCALE:GREGORIAN
BEGIN:VEVENT
DTSTART;VALUE=DATE:20251231
DTEND;VALUE=DATE:20260101
TRANSP:TRANSPARENT
X-MICROSOFT-CDO-ALLDAYEVENT:TRUE
SUMMARY:2026 LEAD's Class Registration
DESCRIPTION:This 10-month leadership development program partnered with the Brown County Chamber of Commerce and Brown County OSU Extension is built for professionals in agencies\, startups\, business & of course you.\n\nBrown L.E.A.D.S. is a comprehensive leadership program designed for business professionals who are passionate about making a positive impact in both their professional and local environments. Through this program\, we aim to empower individuals to lead with integrity\, educate through continuous learning\, accelerate personal and organizational growth\, and foster development through meaningful service-learning experiences. By equipping participants with the necessary skills\, knowledge\, and resources\, we strive to create a dynamic network of leaders who collaborate\, innovate\, and contribute to the sustainable development and well-being of Brown County and beyond.
X-ALT-DESC;FMTTYPE=text/html:<span style="color: rgb(119\, 119\, 119)\; font-family: Rubik\, sans-serif\; font-size: 16px\;">This 10-month leadership development program partnered with the Brown County Chamber of Commerce and Brown County OSU Extension is built for professionals&nbsp\;</span><span class="WdYUQQ text-decoration-none text-strikethrough-none" style="box-sizing: border-box\; color: rgb(119\, 119\, 119)\; font-family: Rubik\, sans-serif\; font-size: 16px\;">in agencies\, startups\, business &amp\; of course you.<br />\nBrown L.E.A.D.S. is a comprehensive leadership program designed for business professionals who are passionate about making a positive impact in both their professional and local environments. Through this program\, we aim to empower individuals to&nbsp\;</span><span class="WdYUQQ text-decoration-none text-strikethrough-none" style="box-sizing: border-box\; color: rgb(119\, 119\, 119)\; font-family: Rubik\, sans-serif\; font-size: 16px\;">lead</span><span class="WdYUQQ text-decoration-none text-strikethrough-none" style="box-sizing: border-box\; color: rgb(119\, 119\, 119)\; font-family: Rubik\, sans-serif\; font-size: 16px\;">&nbsp\;with integrity\,&nbsp\;</span><span class="WdYUQQ text-decoration-none text-strikethrough-none" style="box-sizing: border-box\; color: rgb(119\, 119\, 119)\; font-family: Rubik\, sans-serif\; font-size: 16px\;">educate</span><span class="WdYUQQ text-decoration-none text-strikethrough-none" style="box-sizing: border-box\; color: rgb(119\, 119\, 119)\; font-family: Rubik\, sans-serif\; font-size: 16px\;">&nbsp\;through continuous learning\,&nbsp\;</span><span class="WdYUQQ text-decoration-none text-strikethrough-none" style="box-sizing: border-box\; color: rgb(119\, 119\, 119)\; font-family: Rubik\, sans-serif\; font-size: 16px\;">accelerate</span><span class="WdYUQQ text-decoration-none text-strikethrough-none" style="box-sizing: border-box\; color: rgb(119\, 119\, 119)\; font-family: Rubik\, sans-serif\; font-size: 16px\;">&nbsp\;personal and organizational growth\, and foster&nbsp\;</span><span class="WdYUQQ text-decoration-none text-strikethrough-none" style="box-sizing: border-box\; color: rgb(119\, 119\, 119)\; font-family: Rubik\, sans-serif\; font-size: 16px\;">development</span><span class="WdYUQQ text-decoration-none text-strikethrough-none" style="box-sizing: border-box\; color: rgb(119\, 119\, 119)\; font-family: Rubik\, sans-serif\; font-size: 16px\;">&nbsp\;through meaningful&nbsp\;</span><span class="WdYUQQ text-decoration-none text-strikethrough-none" style="box-sizing: border-box\; color: rgb(119\, 119\, 119)\; font-family: Rubik\, sans-serif\; font-size: 16px\;">service-learning</span><span style="color: rgb(119\, 119\, 119)\; font-family: Rubik\, sans-serif\; font-size: 16px\;">&nbsp\;</span><span class="WdYUQQ text-decoration-none text-strikethrough-none" style="box-sizing: border-box\; color: rgb(119\, 119\, 119)\; font-family: Rubik\, sans-serif\; font-size: 16px\;">experiences. By equipping participants with the necessary skills\, knowledge\, and resources\, we strive to create a dynamic network of leaders who collaborate\, innovate\, and contribute to the sustainable development and well-being of Brown County and beyond.</span>
LOCATION:Brown L.E.A.D.S. classes will be held across the county.
UID:e.3559.3196
SEQUENCE:3
DTSTAMP:20260420T011522Z
URL:https://business.browncountyohiochamber.com/events/details/2026-lead-s-class-registration-3196
END:VEVENT

END:VCALENDAR
