BEGIN:VCALENDAR
VERSION:2.0
PRODID:-//ChamberMaster//Event Calendar 2.0//EN
METHOD:PUBLISH
X-PUBLISHED-TTL:P3D
REFRESH-INTERVAL:P3D
CALSCALE:GREGORIAN
BEGIN:VEVENT
DTSTART:20241109T223000Z
DTEND:20241110T020000Z
X-MICROSOFT-CDO-ALLDAYEVENT:FALSE
SUMMARY:22nd Annual Reverse Raffle
DESCRIPTION:The 22nd Reverse Raffle\n\nOnly 200 tickets will be sold!\n\nHosted by the Brown County Chamber of Commerce and the US Grant Homestead Association \n\nMusic / Catered Dinner / Live Auction Silent Auction / Cash Prizes Wine & Whiskey Pull
X-ALT-DESC;FMTTYPE=text/html:<div>\n<p>The 22nd Reverse Raffle<br />\nOnly 200 tickets will be sold!<br />\nHosted by the Brown County Chamber of Commerce and the US Grant Homestead Association&nbsp\;<br />\nMusic / Catered Dinner / Live Auction Silent Auction / Cash Prizes Wine &amp\; Whiskey Pull<br />\n&nbsp\;</p>\n\n<div>\n<p>&nbsp\;</p>\n</div>\n\n<p>&nbsp\;</p>\n</div>\n
LOCATION:Decatur Community Center 10140 St. Rt 125 Russellville
UID:e.3559.3156
SEQUENCE:3
DTSTAMP:20260422T115044Z
URL:https://business.browncountyohiochamber.com/events/details/22nd-annual-reverse-raffle-3156
END:VEVENT

END:VCALENDAR
