BEGIN:VCALENDAR
VERSION:2.0
PRODID:-//ChamberMaster//Event Calendar 2.0//EN
METHOD:PUBLISH
X-PUBLISHED-TTL:P3D
REFRESH-INTERVAL:P3D
CALSCALE:GREGORIAN
BEGIN:VEVENT
DTSTART:20241026T193000Z
DTEND:20241026T210000Z
X-MICROSOFT-CDO-ALLDAYEVENT:FALSE
SUMMARY:4th Annual BC Farm Bureau Trick or Trunk
DESCRIPTION:If the idea of transforming your trunk into a fun\, themed display and promoting your organization while handing out goodies to their eager crowd sounds exciting\, they would love to have you!
X-ALT-DESC;FMTTYPE=text/html:If the idea of transforming your trunk into a fun\, themed display and promoting your organization while handing out goodies to their eager crowd sounds exciting\, they would love to have you!&nbsp\;&nbsp\;
LOCATION:Brown County Fair Grounds
UID:e.3559.3157
SEQUENCE:3
DTSTAMP:20260422T113813Z
URL:https://business.browncountyohiochamber.com/events/details/4th-annual-bc-farm-bureau-trick-or-trunk-3157
END:VEVENT

END:VCALENDAR
