BEGIN:VCALENDAR
VERSION:2.0
PRODID:-//ChamberMaster//Event Calendar 2.0//EN
METHOD:PUBLISH
X-PUBLISHED-TTL:P3D
REFRESH-INTERVAL:P3D
CALSCALE:GREGORIAN
BEGIN:VEVENT
DTSTART:20250816T120000Z
DTEND:20250816T160000Z
X-MICROSOFT-CDO-ALLDAYEVENT:FALSE
SUMMARY:ABCAP 5K Run & Walk
DESCRIPTION:Date: Saturday\, August 16\, 2025 Location: ABCAP Building 406 W. Plum Street\, Georgetown\, Ohio Registration starts at 8:00 a.m. The race will start and end at the ABCAP Building. Run begins at 9:00 a.m. Attached is a copy of the course. Please complete this form and return it to: ABCAP c/o I & R Committee\, 406 West Plum St.\, Georgetown\, OH 45121 For more info\, contact Sue at 937-378-6041 x 243.
X-ALT-DESC;FMTTYPE=text/html:Date: Saturday\, August 16\, 2025 Location: ABCAP Building 406 W. Plum Street\, Georgetown\, Ohio Registration starts at 8:00 a.m. The race will start and end at the ABCAP Building. Run begins at 9:00 a.m. Attached is a copy of the course. Please complete this form and return it to: ABCAP c/o I &amp\; R Committee\, 406 West Plum St.\, Georgetown\, OH 45121 For more info\, contact Sue at 937-378-6041 x 243.
LOCATION:Run/Walk starts at 406 West Plum Street\, Georgetown\, OH
UID:e.3559.3190
SEQUENCE:3
DTSTAMP:20260420T080408Z
URL:https://business.browncountyohiochamber.com/events/details/abcap-5k-run-walk-3190
END:VEVENT

END:VCALENDAR
