BEGIN:VCALENDAR
VERSION:2.0
PRODID:-//ChamberMaster//Event Calendar 2.0//EN
METHOD:PUBLISH
X-PUBLISHED-TTL:P3D
REFRESH-INTERVAL:P3D
CALSCALE:GREGORIAN
BEGIN:VEVENT
DTSTART:20240118T170000Z
DTEND:20240118T180000Z
X-MICROSOFT-CDO-ALLDAYEVENT:FALSE
SUMMARY:All Your ACA Questions Answered
DESCRIPTION:Are you struggling to determine whether your company is correctly adhering to reporting requirements of the Affordable Care Act (ACA)? Compliance can be complicated\, and each employee you fail to accurately report could result in crippling fines\, ranging from hundreds to millions of dollars. However\, you are not alone\, and CSH experts are here to help! \n\n\n\nJoin us for our free webinar\, where Mary Mitchell\, ACA Expert and Certified Healthcare Reform Specialist\, will answer frequently asked questions and share the information employers need to know to set themselves up for reporting success!\n\n \nWebinar Topics\n\n\n	A review of ACA basics and FAQs\n	A review of potential penalties you can incur and best practices to avoid them\n	Changes that employers need to know for the 2023 reporting season\n	Q&A session
X-ALT-DESC;FMTTYPE=text/html:<span style="caret-color: rgb(68\, 68\, 68)\; color: rgb(68\, 68\, 68)\; font-family: Arial\, sans-serif\; font-size: 13.000001px\;">Are you struggling to determine whether your company is correctly adhering to reporting requirements of the Affordable Care Act (ACA)? Compliance can be complicated\, and each employee you fail to accurately&nbsp\;report&nbsp\;could result in crippling fines\, ranging from hundreds to millions of dollars. However\, you are not alone\, and CSH experts are here to help!&nbsp\;</span><br />\n<br />\n<span style="caret-color: rgb(68\, 68\, 68)\; color: rgb(68\, 68\, 68)\; font-family: Arial\, sans-serif\; font-size: 13.000001px\;">Join us for our free webinar\, where Mary Mitchell\, ACA Expert and Certified Healthcare Reform Specialist\, will answer frequently asked questions and share the information employers need to know to set themselves up for reporting success!</span><br />\n&nbsp\;\n<h3 style="caret-color: rgb(68\, 68\, 68)\; color: rgb(68\, 68\, 68)\; font-family: Arial\, sans-serif\; font-size: 17px\; margin: 0px\; line-height: 29.749998px\;">Webinar Topics</h3>\n\n<ul style="caret-color: rgb(68\, 68\, 68)\; color: rgb(68\, 68\, 68)\; font-family: Arial\, sans-serif\; font-size: 13.000001px\; line-height: 22.75px\;">\n	<li>A review of ACA&nbsp\;basics and FAQs</li>\n	<li>A review of potential penalties you can incur and best practices to avoid them</li>\n	<li>Changes that employers need to know for the 2023 reporting season</li>\n	<li>Q&amp\;A session</li>\n</ul>\n&nbsp\;
LOCATION:Virtual Platform
UID:e.3559.2956
SEQUENCE:3
DTSTAMP:20260424T114013Z
URL:https://business.browncountyohiochamber.com/events/details/all-your-aca-questions-answered-2956
END:VEVENT

END:VCALENDAR
