BEGIN:VCALENDAR
VERSION:2.0
PRODID:-//ChamberMaster//Event Calendar 2.0//EN
METHOD:PUBLISH
X-PUBLISHED-TTL:P3D
REFRESH-INTERVAL:P3D
CALSCALE:GREGORIAN
BEGIN:VEVENT
DTSTART:20221112T223000Z
DTEND:20221113T020000Z
X-MICROSOFT-CDO-ALLDAYEVENT:FALSE
SUMMARY:Annual Reverse Raffle
DESCRIPTION:Event benefits the Brown County Chamber of Commerce and the U.S. Grant Homestead Assoc. \n\nDoors open and silent auction begins at 5:30\n\nCash prizes are $25\, $500 and $1000
X-ALT-DESC;FMTTYPE=text/html:Event benefits the Brown County Chamber of Commerce and the U.S. Grant Homestead Assoc.&nbsp\;<br />\nDoors open and silent auction begins at 5:30<br />\nCash prizes are $25\, $500 and $1000
LOCATION:Brown County Fairgrounds Rhomas Hall
UID:e.3559.2398
SEQUENCE:3
DTSTAMP:20260421T235655Z
URL:https://business.browncountyohiochamber.com/events/details/annual-reverse-raffle-2398
END:VEVENT

END:VCALENDAR
