BEGIN:VCALENDAR
VERSION:2.0
PRODID:-//ChamberMaster//Event Calendar 2.0//EN
METHOD:PUBLISH
X-PUBLISHED-TTL:P3D
REFRESH-INTERVAL:P3D
CALSCALE:GREGORIAN
BEGIN:VEVENT
DTSTART:20240110T160000Z
DTEND:20240110T170000Z
X-MICROSOFT-CDO-ALLDAYEVENT:FALSE
SUMMARY:Are You Ready For Tax Season?
DESCRIPTION:Taxes are one of the only constants in life\, but they don't have to be your biggest source of stress from January-April. Learn more about tax vocabulary\, filing status\, payroll withholding\, deductions for federal and state tax credits\, and record keeping.
X-ALT-DESC;FMTTYPE=text/html:Taxes are one of the only constants in life\, but they don&#39\;t have to be your biggest source of stress from January-April. Learn more about tax vocabulary\, filing status\, payroll withholding\, deductions for federal and state tax credits\, and record keeping.
LOCATION:Virtual event
UID:e.3559.2950
SEQUENCE:3
DTSTAMP:20260424T114222Z
URL:https://business.browncountyohiochamber.com/events/details/are-you-ready-for-tax-season-2950
END:VEVENT

END:VCALENDAR
