BEGIN:VCALENDAR
VERSION:2.0
PRODID:-//ChamberMaster//Event Calendar 2.0//EN
METHOD:PUBLISH
X-PUBLISHED-TTL:P3D
REFRESH-INTERVAL:P3D
CALSCALE:GREGORIAN
BEGIN:VEVENT
DTSTART:20250424T233000Z
DTEND:20250425T010000Z
X-MICROSOFT-CDO-ALLDAYEVENT:FALSE
SUMMARY:Brown County Historical Society “Civil War” Meeting
DESCRIPTION:THURSDAY\, APRIL 24\, 2025 7:30PM BROWN CO. HISTORICAL SOCIETY "CIVIL WAR REGIMENTAL MASCOTS" GEORGETOWN UNITED METHODIST CHURCH FELLOWSHIP HALL 217 S. MAIN ST GEORGETOWN\, OH
X-ALT-DESC;FMTTYPE=text/html:THURSDAY\, APRIL 24\, 2025 7:30PM BROWN CO. HISTORICAL SOCIETY &ldquo\;CIVIL WAR REGIMENTAL MASCOTS&rdquo\; GEORGETOWN UNITED METHODIST CHURCH FELLOWSHIP HALL 217 S. MAIN ST GEORGETOWN\, OH
LOCATION:217 S. Main St Georgetown\, Ohio
UID:e.3559.3173
SEQUENCE:3
DTSTAMP:20260422T013344Z
URL:https://business.browncountyohiochamber.com/events/details/brown-county-historical-society-civil-war-meeting-3173
END:VEVENT

END:VCALENDAR
