BEGIN:VCALENDAR
VERSION:2.0
PRODID:-//ChamberMaster//Event Calendar 2.0//EN
METHOD:PUBLISH
X-PUBLISHED-TTL:P3D
REFRESH-INTERVAL:P3D
CALSCALE:GREGORIAN
BEGIN:VEVENT
DTSTART:20250807T120000Z
DTEND:20250807T140000Z
X-MICROSOFT-CDO-ALLDAYEVENT:FALSE
SUMMARY:Brown County L.E.A.D.S. Presents: Breakfast Program: Leading Wherever You Are - Part Two
DESCRIPTION:Leadership is about more than a title\, rank\, or location on the organization chart. Each of us has opportunities to lead every day in a variety of settings\, situations\, or circumstances. How we choose to navigate those opportunities depends on the confidence we have in our skills and our willingness to practice them. Learn skills you can use and become more inspired to practice them to be the leader our communities\, organizations\, and workplaces need.\n\n\n\nPresented by: Dr. Greg Davis\, OSU Extension\, Professor\n\n\n\nCo-Hosted by:  The Ohio State University and The Brown County Chamber of Commerce
X-ALT-DESC;FMTTYPE=text/html:&nbsp\;Leadership is about more than a title\, rank\, or location on the organization chart. Each of us has opportunities to lead every day in a variety of settings\, situations\, or circumstances. How we choose to navigate those opportunities depends on the confidence we have in our skills and our willingness to practice them. Learn skills you can use and become more inspired to practice them to be the leader our communities\, organizations\, and workplaces need.<br />\n<br />\nPresented by: Dr. Greg Davis\, OSU Extension\, Professor<br />\n<br />\nCo-Hosted by:&nbsp\; The Ohio State University and The Brown County Chamber of Commerce
LOCATION:Southern State Community College Brown County Campus\, 351 Brooks-Malott Road\, Mt Orab\, OH 45154
UID:e.3559.3185
SEQUENCE:3
DTSTAMP:20260420T080716Z
URL:https://business.browncountyohiochamber.com/events/details/brown-county-l-e-a-d-s-presents-breakfast-program-leading-wherever-you-are-part-two-3185
END:VEVENT

END:VCALENDAR
