BEGIN:VCALENDAR
VERSION:2.0
PRODID:-//ChamberMaster//Event Calendar 2.0//EN
METHOD:PUBLISH
X-PUBLISHED-TTL:P3D
REFRESH-INTERVAL:P3D
CALSCALE:GREGORIAN
BEGIN:VEVENT
DTSTART:20250515T130000Z
DTEND:20250515T200000Z
X-MICROSOFT-CDO-ALLDAYEVENT:FALSE
SUMMARY:Building Brown County Together\, Mobile Resource Event
DESCRIPTION:Discover valuable health resources\, connect with local community organizations\, and enjoy exciting giveaways. Together\, let's build a healthier community!
X-ALT-DESC;FMTTYPE=text/html:Discover valuable health resources\, connect with local community organizations\, and enjoy exciting giveaways. Together\, let&#39\;s build a healthier community!
LOCATION:Russellvile Church of Christ
UID:e.3559.3183
SEQUENCE:3
DTSTAMP:20260422T045330Z
URL:https://business.browncountyohiochamber.com/events/details/building-brown-county-together-mobile-resource-event-3183
END:VEVENT

END:VCALENDAR
