BEGIN:VCALENDAR
VERSION:2.0
PRODID:-//ChamberMaster//Event Calendar 2.0//EN
METHOD:PUBLISH
X-PUBLISHED-TTL:P3D
REFRESH-INTERVAL:P3D
CALSCALE:GREGORIAN
BEGIN:VEVENT
DTSTART:20240124T150000Z
DTEND:20240124T160000Z
X-MICROSOFT-CDO-ALLDAYEVENT:FALSE
SUMMARY:Get the Green Thumbs Up: Apply for the Encouraging Environmental Excellence Award Program
DESCRIPTION:Join the Recycling and Sustainability Unit as they cover the "who's\,\n\nwhat's\, and why's" of the Encouraging Environmental Excellence\n\naward program. This webinar will highlight eligibility to apply\,\n\nwhat the award program is\, and the benefits of receiving\n\nrecognition. Plus\, the team will walk you through how to apply.
X-ALT-DESC;FMTTYPE=text/html:<p style="margin: 0px\; font-style: normal\; font-variant-caps: normal\; font-stretch: normal\; line-height: normal\; font-family: Helvetica\; font-size-adjust: none\; font-kerning: auto\; font-variant-alternates: normal\; font-variant-ligatures: normal\; font-variant-numeric: normal\; font-variant-east-asian: normal\; font-variant-position: normal\; font-feature-settings: normal\; font-optical-sizing: auto\; font-variation-settings: normal\;">Join the Recycling and Sustainability Unit as they cover the &quot\;who&#39\;s\,</p>\n\n<p style="margin: 0px\; font-style: normal\; font-variant-caps: normal\; font-stretch: normal\; line-height: normal\; font-family: Helvetica\; font-size-adjust: none\; font-kerning: auto\; font-variant-alternates: normal\; font-variant-ligatures: normal\; font-variant-numeric: normal\; font-variant-east-asian: normal\; font-variant-position: normal\; font-feature-settings: normal\; font-optical-sizing: auto\; font-variation-settings: normal\;">what&#39\;s\, and why&#39\;s&quot\; of the Encouraging Environmental Excellence</p>\n\n<p style="margin: 0px\; font-style: normal\; font-variant-caps: normal\; font-stretch: normal\; line-height: normal\; font-family: Helvetica\; font-size-adjust: none\; font-kerning: auto\; font-variant-alternates: normal\; font-variant-ligatures: normal\; font-variant-numeric: normal\; font-variant-east-asian: normal\; font-variant-position: normal\; font-feature-settings: normal\; font-optical-sizing: auto\; font-variation-settings: normal\;">award program. This webinar will highlight eligibility to apply\,</p>\n\n<p style="margin: 0px\; font-style: normal\; font-variant-caps: normal\; font-stretch: normal\; line-height: normal\; font-family: Helvetica\; font-size-adjust: none\; font-kerning: auto\; font-variant-alternates: normal\; font-variant-ligatures: normal\; font-variant-numeric: normal\; font-variant-east-asian: normal\; font-variant-position: normal\; font-feature-settings: normal\; font-optical-sizing: auto\; font-variation-settings: normal\;">what the award program is\, and the benefits of receiving</p>\n\n<p style="margin: 0px\; font-style: normal\; font-variant-caps: normal\; font-stretch: normal\; line-height: normal\; font-family: Helvetica\; font-size-adjust: none\; font-kerning: auto\; font-variant-alternates: normal\; font-variant-ligatures: normal\; font-variant-numeric: normal\; font-variant-east-asian: normal\; font-variant-position: normal\; font-feature-settings: normal\; font-optical-sizing: auto\; font-variation-settings: normal\;">recognition. Plus\, the team will walk you through how to apply.</p>\n
LOCATION:GoToWebinar
UID:e.3559.2958
SEQUENCE:3
DTSTAMP:20260424T131136Z
URL:https://business.browncountyohiochamber.com/events/details/get-the-green-thumbs-up-apply-for-the-encouraging-environmental-excellence-award-program-2958
END:VEVENT

END:VCALENDAR
