BEGIN:VCALENDAR
VERSION:2.0
PRODID:-//ChamberMaster//Event Calendar 2.0//EN
METHOD:PUBLISH
X-PUBLISHED-TTL:P3D
REFRESH-INTERVAL:P3D
CALSCALE:GREGORIAN
BEGIN:VEVENT
DTSTART:20220826T200000Z
DTEND:20220826T220000Z
X-MICROSOFT-CDO-ALLDAYEVENT:FALSE
SUMMARY:Grand Opening Anchor Fitness East
DESCRIPTION:The press and public are invited to attend the Ribbon Cutting event for Anchor Fitness East which will be at 305 Eastwood Rd. in Williamsburg on 26th from 4 p.m. to 6 p.m. The event will feature the new Anchor Fitness East location which provides functional fitness group training. Anchor Fitness will offer a FREE single class for every person who register for the first time. For additional fun check our sophisticated local coffee bar\, boozy slushes\, food\, prizes\, and discount massages. All these will be provided by partnering with other local small businesses. \n\n \n\nThe Brown County Chamber of Commerce will facilitate the ribbon-cutting at 4 p.m.\n\n \n\n"We know Anchor Fitness East will positively impact the Brown Country communities by providing a place to get healthier and build new relationships. We are so thankful for the Brown County Chambers of Commerce's support and everyone who has rallied around Anchor Fitness East!" - Leah Mendenhall\n\n \n\nAnchor Fitness East is the sister location to Anchor Fitness. Anchor Fitness has been in business for seven years and was founded by Leah Mendenhall.  Anchor Fitness has taken its two most popular classes and now provides them at Anchor Fitness East. These classes are called Anchor Ignite and Shred. Both classes are completely modifiable to meet you where you are at. Our Anchor Ignites professional trainers take clients through a 50 60 minute training session that consists of cardio and strength training exercises these are body weight and dumbbell focused exercises. Our Shred class is a 30 minute cardio blast designed to get your heart rate up. \n\n \n\nMore information on the company and the event can be found at www.anchorfitness.training or e-mail Leah at Leah@anchorfitness.training
X-ALT-DESC;FMTTYPE=text/html:<span style="color:#050505\;"><span style="font-family:inherit\,serif\;"><span style="font-size:11.5pt\;">The press and public are invited to attend the Ribbon Cutting event for Anchor Fitness East which will be at 305 Eastwood Rd. in Williamsburg on 26th from 4 p.m. to 6 p.m. The event will feature the new Anchor Fitness East location which provides functional fitness group training. Anchor Fitness will offer a FREE single class for every person who register for the first time. For additional fun check our sophisticated local coffee bar\, boozy slushes\, food\, prizes\, and discount massages. All these will be provided by partnering with other local small businesses. </span></span></span><br />\n&nbsp\;<br />\n<span style="color:#050505\;"><span style="font-family:inherit\,serif\;"><span style="font-size:11.5pt\;">The Brown County Chamber of Commerce will facilitate the ribbon-cutting at 4 p.m.</span></span></span><br />\n&nbsp\;<br />\n<span style="color:#050505\;"><span style="font-family:inherit\,serif\;"><span style="font-size:11.5pt\;">&ldquo\;We know Anchor Fitness East will positively impact the Brown Country communities by providing a place to get healthier and build new relationships. We are so thankful for the Brown County Chambers of Commerce&#39\;s support and everyone who has rallied around Anchor Fitness East!&rdquo\; - Leah Mendenhall</span></span></span><br />\n&nbsp\;<br />\n<span style="color:#050505\;"><span style="font-family:inherit\,serif\;"><span style="font-size:11.5pt\;">Anchor Fitness East is the sister location to Anchor Fitness. Anchor Fitness has been in business for seven years and was founded by Leah Mendenhall.&nbsp\; Anchor Fitness has taken its two most popular classes and now provides them at Anchor Fitness East. These classes are called Anchor Ignite and Shred. Both classes are completely modifiable to meet you where you are at. Our Anchor Ignites professional trainers take clients through a 50&ndash\;60 minute training session that consists of cardio and strength training exercises these are body weight and dumbbell focused exercises. Our Shred class is a 30 minute cardio blast designed to get your heart rate up. </span></span></span><br />\n&nbsp\;<br />\n<span style="color:#050505\;"><span style="font-family:inherit\,serif\;"><span style="font-size:11.5pt\;">More information on the company and the event can be found at <a href="http://www.anchorfitness.training">www.anchorfitness.training</a> or e-mail Leah at <a href="mailto:Leah@anchorfitness.training">Leah@anchorfitness.training</a></span></span></span>
LOCATION:
UID:e.3559.2363
SEQUENCE:3
DTSTAMP:20260422T051950Z
URL:https://business.browncountyohiochamber.com/events/details/grand-opening-anchor-fitness-east-2363
END:VEVENT

END:VCALENDAR
