BEGIN:VCALENDAR
VERSION:2.0
PRODID:-//ChamberMaster//Event Calendar 2.0//EN
METHOD:PUBLISH
X-PUBLISHED-TTL:P3D
REFRESH-INTERVAL:P3D
CALSCALE:GREGORIAN
BEGIN:VEVENT
DTSTART:20220829T160000Z
DTEND:20220829T180000Z
X-MICROSOFT-CDO-ALLDAYEVENT:FALSE
SUMMARY:Grand Opening Coffee Loft
DESCRIPTION:Everyone is invited to attend the grand opening of The Coffee Loft in Georgetown. Located at 105 East Grant Ave\, The Coffee Loft officially opened on August 16th to provide coffee and more to the residents of Georgetown and surrounding areas. The Coffee Loft will be open everyday from 6am to 6pm. \n\n\n\nThe Brown County Chamber will facilitate a ribbon-cutting ceremony at 12:15 p.m. on Monday\, August 29th. The event will feature words from the Chamber and local leaders in addition to refreshments of coffee tasting and food sampling. \n\n\n\nJoin us to celebrate\, meet the staff and tour the coffee shop.
X-ALT-DESC;FMTTYPE=text/html:Everyone&nbsp\;is invited to attend the grand&nbsp\;opening of The Coffee Loft in Georgetown. Located at 105 East Grant Ave\, The Coffee Loft officially opened on August 16th to provide coffee and more to the residents of Georgetown and surrounding areas. The Coffee Loft will be open everyday from 6am to 6pm.&nbsp\;<br />\n<br />\nThe Brown County Chamber will facilitate a ribbon-cutting ceremony at 12:15 p.m. on Monday\, August 29th. The event will feature words from the Chamber and local leaders in addition to refreshments of coffee tasting and food sampling.&nbsp\;<br />\n<br />\nJoin us to celebrate\, meet the staff and tour the coffee shop.&nbsp\;
LOCATION:
UID:e.3559.2360
SEQUENCE:3
DTSTAMP:20260422T051504Z
URL:https://business.browncountyohiochamber.com/events/details/grand-opening-coffee-loft-2360
END:VEVENT

END:VCALENDAR
