BEGIN:VCALENDAR
VERSION:2.0
PRODID:-//ChamberMaster//Event Calendar 2.0//EN
METHOD:PUBLISH
X-PUBLISHED-TTL:P3D
REFRESH-INTERVAL:P3D
CALSCALE:GREGORIAN
BEGIN:VEVENT
DTSTART:20221110T170000Z
DTEND:20221110T180000Z
X-MICROSOFT-CDO-ALLDAYEVENT:FALSE
SUMMARY:Grand Opening of Keller Williams Advisors Realty
DESCRIPTION:You are invited to attend the ribbon cutting for the brand-new Keller Williams Advisors Realty office located at 100 N Main St in Mt. Orab at noon on November 10th. The event will feature the agents and leaders of KW Advisors and the Brown County Chamber of Commerce.\n\nCiting the opportunity to build her individual brand with the overwhelming support provided by the office\, local agent Anna Bingamon partnered with KW Advisors in December 2021.  "Communication and support is the best I've ever had. KW encourages and helped me to create my brand as an individual agent or team." Since joining\, Anna has taken on a leadership role with the Mt. Orab office and will be hosting events and drop in opportunities for the community throughout the year.\n\nFounded in 2005\, Keller Williams Advisors Realty is a locally owned and operated network of real estate offices serving Southwest Ohio\, Northern Kentucky\, and Southeast Indiana. As a business partner\, KW Advisors provides the training\, marketing\, technology\, and tools agents need to serve their clients and communities.
X-ALT-DESC;FMTTYPE=text/html:<span style="color:#403F42\;"><span style="font-family:arial\,sans-serif\;"><span style="font-size:12.0pt\;">You are invited to attend the ribbon cutting for the brand-new Keller Williams Advisors Realty office located </span></span></span><strong><u><span style="background:#FCFAD5\;"><span style="color:#403F42\;"><span style="font-family:arial\,sans-serif\;"><span style="font-size:13.0pt\;">at 100 N Main St in Mt. Orab at noon on November 10th.</span></span></span></span></u></strong><span style="color:#403F42\;"><span style="font-family:arial\,sans-serif\;"><span style="font-size:12.0pt\;"> The event will feature the agents and leaders of KW Advisors and the Brown County Chamber of Commerce.</span></span></span><br />\n<span style="color:#403F42\;"><span style="font-family:arial\,sans-serif\;"><span style="font-size:12.0pt\;">Citing the opportunity to build her individual brand with the overwhelming support provided by the office\, local agent Anna Bingamon partnered with KW Advisors in December 2021. </span></span></span><span style="color:#222222\;"><span style="font-family:arial\,sans-serif\;"><span style="font-size:12.0pt\;">&nbsp\;&ldquo\;Communication and support is the best I&rsquo\;ve ever had. KW encourages and helped me to create my brand as an individual agent or team.&ldquo\; </span></span></span><span style="color:#403F42\;"><span style="font-family:arial\,sans-serif\;"><span style="font-size:12.0pt\;">Since joining\, Anna has taken on a leadership role with the Mt. Orab office and will be hosting events and drop in opportunities for the community throughout the year.</span></span></span><br />\n<span style="color:#403F42\;"><span style="font-family:arial\,sans-serif\;"><span style="font-size:12.0pt\;">Founded in 2005\, Keller Williams Advisors Realty is a locally owned and operated network of real estate offices serving Southwest Ohio\, Northern Kentucky\, and Southeast Indiana. As a business partner\, KW Advisors provides the training\, marketing\, technology\, and tools agents need to serve their clients and communities.</span></span></span>
LOCATION:
UID:e.3559.2403
SEQUENCE:3
DTSTAMP:20260422T000220Z
URL:https://business.browncountyohiochamber.com/events/details/grand-opening-of-keller-williams-advisors-realty-2403
END:VEVENT

END:VCALENDAR
