BEGIN:VCALENDAR
VERSION:2.0
PRODID:-//ChamberMaster//Event Calendar 2.0//EN
METHOD:PUBLISH
X-PUBLISHED-TTL:P3D
REFRESH-INTERVAL:P3D
CALSCALE:GREGORIAN
BEGIN:VEVENT
DTSTART:20220907T210000Z
DTEND:20220907T220000Z
X-MICROSOFT-CDO-ALLDAYEVENT:FALSE
SUMMARY:Grand Opening Ripley D.O.R.A.
DESCRIPTION:Ripley to celebrate grand opening for outdoor refreshment area!\n\n \n\nThe press and public are invited to join the Village of Ripley on our Main Street as we celebrate our Designated Outdoor Refreshment Area on Wednesday\, September 7th from 5:00 pm - 6:00 pm.  The event will feature a ribbon cutting to officially mark the opening of an area of downtown where individuals are allowed to walk freely with alcoholic beverages in designated cups.  Known as DORA\, visitors can watch the Ohio River go by\, enjoy a seat in the shade or browse the shops downtown all while enjoying an adult beverage from our three DORA partners\; Brookies\, Snappers Saloon and the Ripley Boat Club.\n\n\n\nJoin us for a Business After Hours social/networking event from 5:00 p.m. to 6:00 p.m. Our Business After Hours give you the chance to network with other business leaders out of the office and off the clock. You will have the opportunity to introduce yourself to other members\, exchange business cards\, make new business contacts\, win door prizes\, and enjoy refreshments. The Brown County Chamber of Commerce will facilitate the ribbon cutting at 5:30 pm. \n\n\n\n"We are very excited to welcome the Brown County Chamber of Commerce\, our local citizens and business owners and visitors to Ripley as we celebrate our DORA District\," said Village Administrator Wayne Gates.  "We hope that people will come and enjoy all that downtown Ripley has to offer."
X-ALT-DESC;FMTTYPE=text/html:Ripley to celebrate grand opening for outdoor refreshment area!<br />\n&nbsp\;<br />\nThe press and public are invited to join the Village of Ripley on our Main Street as we celebrate our Designated Outdoor Refreshment Area on Wednesday\, September 7th from 5:00 pm - 6:00 pm.&nbsp\; The event will feature a ribbon cutting to officially mark the opening of an area of downtown where individuals are allowed to walk freely with alcoholic beverages in designated cups.&nbsp\; Known as DORA\, visitors can watch the Ohio River go by\, enjoy a seat in the shade or browse the shops downtown all while enjoying an adult beverage from our three DORA partners\; Brookies\, Snappers Saloon and the Ripley Boat Club.<br />\n<br />\nJoin us for a Business After Hours social/networking event from 5:00 p.m. to 6:00 p.m. Our Business After Hours give you the chance to network with other business leaders out of the office and off the clock. You will have the opportunity to introduce yourself to other members\, exchange business cards\, make new business contacts\, win door prizes\, and enjoy refreshments.&nbsp\;The Brown County Chamber of Commerce will facilitate the ribbon cutting at 5:30 pm.&nbsp\;<br />\n<br />\n&ldquo\;We are very excited to welcome the Brown County Chamber of Commerce\, our local citizens and business owners and visitors to Ripley as we celebrate our DORA District\,&rdquo\; said Village Administrator Wayne Gates.&nbsp\; &ldquo\;We hope that people will come and enjoy all that downtown Ripley has to offer.&rdquo\;
LOCATION:
UID:e.3559.2365
SEQUENCE:3
DTSTAMP:20260422T051817Z
URL:https://business.browncountyohiochamber.com/events/details/grand-opening-ripley-d-o-r-a-2365
END:VEVENT

END:VCALENDAR
