BEGIN:VCALENDAR
VERSION:2.0
PRODID:-//ChamberMaster//Event Calendar 2.0//EN
METHOD:PUBLISH
X-PUBLISHED-TTL:P3D
REFRESH-INTERVAL:P3D
CALSCALE:GREGORIAN
BEGIN:VEVENT
DTSTART:20220909T200000Z
DTEND:20220909T210000Z
X-MICROSOFT-CDO-ALLDAYEVENT:FALSE
SUMMARY:Grand Opening Votel Law\, LLC
DESCRIPTION:Votel Law\, LLC will be holding a grand opening on September 9th\, 2022. The public is invited to celebrate the occasion. The event will start at 4:00pm at 106 N. High Street in Mt. Orab. Refreshments will be provided. \n\nAttorney M. Tyler Votel is a graduate of Western Brown High School. He spent a majority of his law school career as a law clerk for a Cincinnati law firm. During that time\, he gained significant experience in dealing with personal injury\, civil litigation\, and other areas of the law. He is dedicated to ensuring that every client receives the help that they need by taking a hands-on and personal approach to every case. \n\nAttorney M. Tyler Votel is licenced to practice in Ohio and Kentucky. Tyler handles a variety of legal issues\, including\, but not limited to\, personal injury\, such as car accidents\, dog bites\, and slip and falls\, criminal defense\, estate planning and probate work\, family law\, such as divorces\, child custody matters\, and protection orders.\n\n"I am excited to be back in Brown County\, it has always been my goal to open my own law firm. Coming back home was an added bonus."                ~ M. Tyler Votel\, Attorney at Law\n\nPlease feel free to contact Votel Law at 937-712-9111 or on our website\, votellaw.com\, for all your legal needs.
X-ALT-DESC;FMTTYPE=text/html:<span style="font-family:arial\,sans-serif\;"><span style="font-size:14.0pt\;">Votel Law\, LLC will be holding a grand opening on September 9<sup>th</sup>\, 2022. The public is invited to celebrate the occasion. The event will start at 4:00pm at 106 N. High Street in Mt. Orab. Refreshments will be provided. </span></span><br />\n<span style="background:white\;"><span style="color:#5E5E5E\;"><span style="font-family:arial\,sans-serif\;"><span style="font-size:14.0pt\;">Attorney M. Tyler Votel is a graduate of Western Brown High School. He spent a majority of his law school career as a law clerk for a Cincinnati law firm. During that time\, he gained significant experience in dealing with personal injury\, civil litigation\, and other areas of the law. He is dedicated to ensuring that every client receives the help that they need by taking a hands-on and personal approach to every case. </span></span></span></span><br />\n<span style="background:white\;"><span style="color:#5E5E5E\;"><span style="font-family:arial\,sans-serif\;"><span style="font-size:14.0pt\;">Attorney M. Tyler Votel is licenced to practice in Ohio and Kentucky. Tyler handles a variety of legal issues\, including\, but not limited to\, personal injury\, such as car accidents\, dog bites\, and slip and falls\, criminal defense\, estate planning and probate work\, family law\, such as divorces\, child custody matters\, and protection orders.</span></span></span></span><br />\n<strong><em><span style="background:white\;"><span style="color:#5E5E5E\;"><span style="font-family:arial\,sans-serif\;"><span style="font-size:14.0pt\;">&ldquo\;I am excited to be back in Brown County\, it has always been my goal to open my own law firm. Coming back home was an added bonus.&rdquo\;&nbsp\;&nbsp\;&nbsp\;&nbsp\;&nbsp\;&nbsp\;&nbsp\;&nbsp\;&nbsp\;&nbsp\;&nbsp\;&nbsp\;&nbsp\;&nbsp\;&nbsp\; ~ M. Tyler Votel\, Attorney at Law</span></span></span></span></em></strong><br />\n<span style="background:white\;"><span style="color:#5E5E5E\;"><span style="font-family:arial\,sans-serif\;"><span style="font-size:14.0pt\;">Please feel free to contact Votel Law at 937-712-9111 or on our website\, votellaw.com\, for all your legal needs.</span></span></span></span>
LOCATION:
UID:e.3559.2366
SEQUENCE:3
DTSTAMP:20260422T033059Z
URL:https://business.browncountyohiochamber.com/events/details/grand-opening-votel-law-llc-2366
END:VEVENT

END:VCALENDAR
