BEGIN:VCALENDAR
VERSION:2.0
PRODID:-//ChamberMaster//Event Calendar 2.0//EN
METHOD:PUBLISH
X-PUBLISHED-TTL:P3D
REFRESH-INTERVAL:P3D
CALSCALE:GREGORIAN
BEGIN:VEVENT
DTSTART:20250627T200000Z
DTEND:20250627T203000Z
X-MICROSOFT-CDO-ALLDAYEVENT:FALSE
SUMMARY:Grand Re-Opening and Ribbon Cutting for ACRMC Georgetown
DESCRIPTION:Grand Re-Opening Alert!  \n\nThe Brown County Chamber of Commerce is excited to celebrate the Grand Re-Opening and Ribbon Cutting for ACRMC Family Medicine in Georgetown!\n\nACRMC Family Medicine has officially moved into their brand-new\, modern facility and we're thrilled to help them celebrate this exciting new chapter!\n\nFor years\, ACRMC Family Medicine has been a trusted provider of compassionate\, high-quality care for families throughout Georgetown and the surrounding communities. As part of Adams County Regional Medical Center\, their team is dedicated to putting patients first and supporting wellness at every stage of life.\n\nJoin us on June 27th to meet the team\, tour the new space\, and enjoy light refreshments. Let's show our support for a healthcare provider that truly makes a difference in our community!
X-ALT-DESC;FMTTYPE=text/html:<p data-end="169" data-start="136">&#127881\; <strong data-end="166" data-start="139">Grand Re-Opening Alert!</strong> &#127881\;</p>\n\n<p data-end="320" data-start="171">The Brown County Chamber of Commerce is excited to celebrate the <strong data-end="275" data-start="236">Grand Re-Opening and Ribbon Cutting</strong> for <strong data-end="305" data-start="280">ACRMC Family Medicine</strong> in Georgetown!</p>\n\n<p data-end="408" data-start="322">ACRMC Family Medicine has officially moved into their brand-new\, modern facility&mdash\;and we&rsquo\;re thrilled to help them celebrate this exciting new chapter!</p>\n\n<p data-end="872" data-start="561">For years\, ACRMC Family Medicine has been a trusted provider of compassionate\, high-quality care for families throughout Georgetown and the surrounding communities. As part of Adams County Regional Medical Center\, their team is dedicated to putting patients first and supporting wellness at every stage of life.</p>\n\n<p data-end="1059" data-start="874">Join us on June 27th to meet the team\, tour the new space\, and enjoy light refreshments. Let&rsquo\;s show our support for a healthcare provider that truly makes a difference in our community!</p>\n
LOCATION:4881 OH-125\, Georgetown\, OH 45121
UID:e.3559.3186
SEQUENCE:3
DTSTAMP:20260422T121831Z
URL:https://business.browncountyohiochamber.com/events/details/grand-re-opening-and-ribbon-cutting-for-acrmc-georgetown-3186
END:VEVENT

END:VCALENDAR
