BEGIN:VCALENDAR
VERSION:2.0
PRODID:-//ChamberMaster//Event Calendar 2.0//EN
METHOD:PUBLISH
X-PUBLISHED-TTL:P3D
REFRESH-INTERVAL:P3D
CALSCALE:GREGORIAN
BEGIN:VEVENT
DTSTART:20210608T223000Z
DTEND:20210609T000000Z
X-MICROSOFT-CDO-ALLDAYEVENT:FALSE
SUMMARY:GRIT Project- County-wide Meeting
DESCRIPTION:County-wide meeting on the GRIT project which stands for Growing Rural Independence Through Jobs. The meeting will be held June 8th at 7:00 p.m. in the Dining Commons at Southern Hills Career and Technical Center on Hamer Road\, Georgetown. A meal will be available from 6:30 to 7:00 p.m.\n\nThe GRIT project is centered on helping individuals find their strengths and abilities in order to meet the demands of the job market. For the last three years\, the Brown County Educational Service Center has collaborated with school districts and the business community in addressing employment skills needed in the workplace under this project's umbrella.\n\nAs an individual who has a stake in our county\, we hope you will join us in learning about the project and help us brainstorm ideas to continue to aid the citizens of the county as they seek viable employment opportunities.\n\nThe GRIT Project builds hope in rural Ohio by growing the economic prosperity of the region. The project supports young adults age 14-24 and adults who are unemployed or underemployed in getting the education and training needed to secure living-wage jobs within their community.
X-ALT-DESC;FMTTYPE=text/html:<span style="color:black\;"><span style="font-family:times new roman\,serif\;"><span style="font-size:13.5pt\;">County-wide meeting on the GRIT project which stands for Growing Rural Independence Through Jobs. The meeting will be held June 8th at 7:00 p.m. in the Dining Commons at Southern Hills Career and Technical Center on Hamer Road\, Georgetown. A meal will be available from 6:30 to 7:00 p.m.</span></span></span><br />\n<span style="color:black\;"><span style="font-family:times new roman\,serif\;"><span style="font-size:13.5pt\;">The GRIT project is centered on helping individuals find their strengths and abilities in order to meet the demands of the job market. For the last three years\, the Brown County Educational Service Center has collaborated with school districts and the business community in addressing employment skills needed in the workplace under this project&rsquo\;s umbrella.</span></span></span><br />\n<span style="color:black\;"><span style="font-family:times new roman\,serif\;"><span style="font-size:13.5pt\;">As an individual who has a stake in our county\, we hope you will join us in learning about the project and help us brainstorm ideas to continue to aid the citizens of the county as they seek viable employment opportunities.</span></span></span><br />\n<span style="color:black\;"><span style="font-family:times new roman\,serif\;"><span style="font-size:13.5pt\;">The GRIT Project builds hope in rural Ohio by growing the economic prosperity of the region. The project supports young adults age 14-24 and adults who are unemployed or underemployed in getting the education and training needed to secure living-wage jobs within their community.</span></span></span><br />\n&nbsp\;
LOCATION:
UID:e.3559.1308
SEQUENCE:3
DTSTAMP:20260424T163606Z
URL:https://business.browncountyohiochamber.com/events/details/grit-project-county-wide-meeting-1308
END:VEVENT

END:VCALENDAR
