BEGIN:VCALENDAR
VERSION:2.0
PRODID:-//ChamberMaster//Event Calendar 2.0//EN
METHOD:PUBLISH
X-PUBLISHED-TTL:P3D
REFRESH-INTERVAL:P3D
CALSCALE:GREGORIAN
BEGIN:VEVENT
DTSTART:20260428T190000Z
DTEND:20260428T213000Z
X-MICROSOFT-CDO-ALLDAYEVENT:FALSE
SUMMARY:HGF Pediatric Endocrine Symposium - Columbus\, Ohio
DESCRIPTION:The Human Growth Foundation (HGF) invites you to the HGF Pediatric Endocrine Symposium - Columbus  a meaningful event centered on education\, awareness\, and empowerment for physicians\, nurses\, patients\, families\, and the wider community. This HGF Pediatric Endocrine Symposium - Columbus will feature: ?? Expert Discussions   Learn from top specialists in the field. ?? Cocktail Reception   A delicious reception with great company. ?? 1.5 CME and 1.5 CE Units Provided Together\, we can learn and raise awareness for rare growth and bone disorders. With Gratitude\,
X-ALT-DESC;FMTTYPE=text/html:The Human Growth Foundation (HGF) invites you to the HGF Pediatric Endocrine Symposium - Columbus &mdash\;a meaningful event centered on education\, awareness\, and empowerment for physicians\, nurses\, patients\, families\, and the wider community. This HGF Pediatric Endocrine Symposium - Columbus will feature: ?? Expert Discussions &ndash\; Learn from top specialists in the field. ?? Cocktail Reception &ndash\; A delicious reception with great company. ?? 1.5 CME and 1.5 CE Units Provided Together\, we can learn and raise awareness for rare growth and bone disorders. With Gratitude\,
LOCATION:Hyatt Regency Columbus Room: Madison Room | Floor 2 350 North High Street Columbus\, OH 43215
UID:e.3559.3232
SEQUENCE:3
DTSTAMP:20260420T201842Z
URL:https://business.browncountyohiochamber.com/events/details/hgf-pediatric-endocrine-symposium-columbus-ohio-3232
END:VEVENT

END:VCALENDAR
