BEGIN:VCALENDAR
VERSION:2.0
PRODID:-//ChamberMaster//Event Calendar 2.0//EN
METHOD:PUBLISH
X-PUBLISHED-TTL:P3D
REFRESH-INTERVAL:P3D
CALSCALE:GREGORIAN
BEGIN:VEVENT
DTSTART:20250424T230000Z
DTEND:20250425T010000Z
X-MICROSOFT-CDO-ALLDAYEVENT:FALSE
SUMMARY:Hope Care Center Spring Partnership Dinner
DESCRIPTION:The Hope Care Center (formerly known as Pregnancy Resource Center) Spring Partnership Dinner is an opportunity for our community to learn more about services provided to pregnant women and families with infants and toddlers in Brown County and surrounding communities. This year we welcome U. S. Senator Jon Husted and Michael Gonidakis\, Ohio Right to Life president as our keynote speakers. Both speakers will share their personal adoption story. A delicious meal will be provided by The Home Place. This is a free event. Guests will be given an opportunity to financially support the Hope Care Center as they provide a brighter future for women and families in Brown County. Please call (937-378-6853) to reserve a table for six.
X-ALT-DESC;FMTTYPE=text/html:The Hope Care Center (formerly known as Pregnancy Resource Center) Spring Partnership Dinner is an opportunity for our community to learn more about services provided to pregnant women and families with infants and toddlers in Brown County and surrounding communities. This year we welcome U. S. Senator Jon Husted and Michael Gonidakis\, Ohio Right to Life president as our keynote speakers. Both speakers will share their personal adoption story. A delicious meal will be provided by The Home Place. This is a free event. Guests will be given an opportunity to financially support the Hope Care Center as they provide a brighter future for women and families in Brown County. Please call (937-378-6853) to reserve a table for six.
LOCATION:Georgetown Church of Christ 149 Hamer Rd. Georgetown\, OH 45121
UID:e.3559.3182
SEQUENCE:3
DTSTAMP:20260422T030757Z
URL:https://business.browncountyohiochamber.com/events/details/hope-care-center-spring-partnership-dinner-3182
END:VEVENT

END:VCALENDAR
