BEGIN:VCALENDAR
VERSION:2.0
PRODID:-//ChamberMaster//Event Calendar 2.0//EN
METHOD:PUBLISH
X-PUBLISHED-TTL:P3D
REFRESH-INTERVAL:P3D
CALSCALE:GREGORIAN
BEGIN:VEVENT
DTSTART:20250328T160000Z
DTEND:20250328T170000Z
X-MICROSOFT-CDO-ALLDAYEVENT:FALSE
SUMMARY:Join Us for the Grand Opening & Ribbon Cutting of The 1840 Loft!
DESCRIPTION:We are thrilled to invite the community to celebrate the Grand Opening of The 1840 Loft on Tuesday\, March 28th\, at 12:00 PM\, located at 14 Main Street (upstairs)\, Ripley\, OH!\n\nThe Brown County Chamber of Commerce will facilitate the official ribbon-cutting ceremony at 12:00 PM\, followed by an open house where guests can tour this beautifully restored historic loft. Built in the 1840s\, this stunning space blends its original charm with modern comfort and is now available for stays on Airbnb!\n\nCome see the transformation\, meet the team behind A & A Wallace Properties\, LLC\, and celebrate a new addition to Downtown Ripley!\n\n  Date: March 28\, 2025\n\n  Time: 12:00 PM Ribbon Cutting\n\n  Location: 14 Main Street (upstairs)\, Ripley\, OH\n\nWe hope to see you there!     #The1840Loft #RibbonCutting #HistoricRipley #BrownCountyChamber
X-ALT-DESC;FMTTYPE=text/html:<p>We are thrilled to invite the community to celebrate the <strong>Grand Opening of The 1840 Loft</strong> on <strong>Tuesday\, March&nbsp\;28th\, at 12:00 PM</strong>\, located at <strong>14 Main Street (upstairs)\, Ripley\, OH</strong>!</p>\n\n<p>The <strong>Brown County Chamber of Commerce</strong> will facilitate the <strong>official ribbon-cutting ceremony at 12:00 PM</strong>\, followed by an open house where guests can tour this beautifully restored historic loft. Built in the 1840s\, this stunning space blends its original charm with modern comfort and is now available for stays on Airbnb!</p>\n\n<p>Come see the transformation\, meet the team behind <strong>A &amp\; A Wallace Properties\, LLC</strong>\, and celebrate a new addition to Downtown Ripley!</p>\n\n<p>&#128197\; <strong>Date:</strong>&nbsp\;March&nbsp\;28\, 2025<br />\n&#9200\; <strong>Time:</strong>&nbsp\;12:00 PM Ribbon Cutting<br />\n&#128205\; <strong>Location:</strong> 14 Main Street (upstairs)\, Ripley\, OH</p>\n\n<p>We hope to see you there! &#127872\;&#127969\;&#10024\; #The1840Loft #RibbonCutting #HistoricRipley #BrownCountyChamber</p>\n
LOCATION:14 Main Street Ripley\,
UID:e.3559.3171
SEQUENCE:3
DTSTAMP:20260422T025734Z
URL:https://business.browncountyohiochamber.com/events/details/join-us-for-the-grand-opening-ribbon-cutting-of-the-1840-loft-3171
END:VEVENT

END:VCALENDAR
