BEGIN:VCALENDAR
VERSION:2.0
PRODID:-//ChamberMaster//Event Calendar 2.0//EN
METHOD:PUBLISH
X-PUBLISHED-TTL:P3D
REFRESH-INTERVAL:P3D
CALSCALE:GREGORIAN
BEGIN:VEVENT
DTSTART:20220914T160000Z
DTEND:20220914T170000Z
X-MICROSOFT-CDO-ALLDAYEVENT:FALSE
SUMMARY:Lunch and Learn - Health Insurance for Small Business and Self-Employed
DESCRIPTION:The Brown County Chamber of Commerce invite you to join us for a free lunch and learn to hear about exciting health insurance benefits available to small business owners and sole proprietors.  Open to both Chamber members and non-members. \n\n\n\nCome and get information about smart health insurance solutions for groups with 50 or fewer employees and sole proprietors. Our insurance options are made for single owners and small businesses to provide excellent and affordable care for their employees. \n\nMcKeown Insurance Service and Saxon Financial will be sponsoring this event\, so it is free for everyone interested in health insurance. Also\, Scott and Tim will be glad to answer any questions you have about insurance and business insurance-related.
X-ALT-DESC;FMTTYPE=text/html:<div class="m8h3af8h l7ghb35v kjdc1dyq kmwttqpk gh25dzvf" color:="" font-size:="" segoe="" style="overflow-wrap: break-word\; margin: 0px\; font-family: " ui="">The Brown County Chamber of Commerce&nbsp\;invite you to join us for a free lunch and learn to hear about exciting health insurance benefits available to small business owners and sole proprietors.&nbsp\; Open to both Chamber members and non-members.&nbsp\;</div>\n\n<div class="m8h3af8h l7ghb35v kjdc1dyq kmwttqpk gh25dzvf" color:="" font-size:="" segoe="" style="overflow-wrap: break-word\; margin: 0px\; font-family: " ui=""><br />\nCome and get information about smart health insurance solutions for groups with 50 or fewer employees and sole proprietors.&nbsp\;Our&nbsp\;insurance options are&nbsp\;made for single owners and small businesses to provide excellent and affordable care for their employees.&nbsp\;</div>\n\n<div class="l7ghb35v kjdc1dyq kmwttqpk gh25dzvf jikcssrz" color:="" font-size:="" segoe="" style="overflow-wrap: break-word\; margin: 0.5em 0px 0px\; font-family: " ui="">McKeown Insurance Service and Saxon Financial will be sponsoring this event\, so it is free for everyone interested in health insurance.&nbsp\;Also\, Scott and Tim will be glad to answer any questions you have about insurance and business insurance-related.</div>\n
LOCATION:
UID:e.3559.2370
SEQUENCE:3
DTSTAMP:20260424T102204Z
URL:https://business.browncountyohiochamber.com/events/details/lunch-and-learn-health-insurance-for-small-business-and-self-employed-2370
END:VEVENT

END:VCALENDAR
