BEGIN:VCALENDAR
VERSION:2.0
PRODID:-//ChamberMaster//Event Calendar 2.0//EN
METHOD:PUBLISH
X-PUBLISHED-TTL:P3D
REFRESH-INTERVAL:P3D
CALSCALE:GREGORIAN
BEGIN:VEVENT
DTSTART:20221214T220000Z
DTEND:20221215T000000Z
X-MICROSOFT-CDO-ALLDAYEVENT:FALSE
SUMMARY:Membership Appreciation Business After-Hours Networking Christmas Party
DESCRIPTION:The new bar addition of Parkers Pizzeria will be the site of the Brown County Chamber of Commerce's Membership Appreciation Christmas Party\, Wednesday\, December 14 starting at 5pm. Parkers Pizzeria is located at 124 North Main St\, Georgetown. \n\n \n\nThe Chamber will be providing the appetizers for the event\, while Parkers Pizza will be providing one complimentary drink ticket for the shindig. There will be gifts and door prizes. \n\n \n\nThe Christmas Party is free to all Brown County Chamber of Commerce members\, but an RSVP is required. Enjoy a relaxed atmosphere and refreshments while you connect with fellow Chamber members after hours.  Start new relationships or build current ones over beverages and heavy appetizers during this Chamber networking event.
X-ALT-DESC;FMTTYPE=text/html:<span style="color:#3D3D3D\;"><span style="font-family:arial\,sans-serif\;">The new bar addition of Parkers Pizzeria will be the site of the Brown County Chamber of Commerce&rsquo\;s Membership Appreciation Christmas Party\, Wednesday\, December 14 starting at 5pm. Parkers Pizzeria is located at 124 North Main St\, Georgetown. </span></span><br />\n&nbsp\;<br />\n<span style="color:#3D3D3D\;"><span style="font-family:arial\,sans-serif\;">The Chamber will be providing the appetizers for the event\, while Parkers Pizza will be providing one complimentary drink ticket for the shindig. There will be gifts and door prizes. </span></span><br />\n&nbsp\;<br />\n<span style="color:#3D3D3D\;"><span style="font-family:arial\,sans-serif\;">The Christmas Party is free to all Brown County Chamber of Commerce members\, but an RSVP is required. Enjoy a relaxed atmosphere and refreshments while you connect with fellow Chamber members after hours.&nbsp\; Start new relationships or build current ones over beverages and heavy appetizers during this Chamber networking event.</span></span>
LOCATION:
UID:e.3559.2408
SEQUENCE:3
DTSTAMP:20260421T221619Z
URL:https://business.browncountyohiochamber.com/events/details/membership-appreciation-business-after-hours-networking-christmas-party-2408
END:VEVENT

END:VCALENDAR
