BEGIN:VCALENDAR
VERSION:2.0
PRODID:-//ChamberMaster//Event Calendar 2.0//EN
METHOD:PUBLISH
X-PUBLISHED-TTL:P3D
REFRESH-INTERVAL:P3D
CALSCALE:GREGORIAN
BEGIN:VEVENT
DTSTART:20211216T130000Z
DTEND:20211216T140000Z
X-MICROSOFT-CDO-ALLDAYEVENT:FALSE
SUMMARY:Monthly Membership Meeting
DESCRIPTION:Join us for our Monthly Membership Meeting. Held on the 3rd Thursday of every month at member business location. Join fellow chamber members for a celebration full of fun\, games and holiday activities at Southern Hills Community Bank in Ripley. Meeting will be in-person only\, there will be no Zoom option. \n\nRegistration is required.
X-ALT-DESC;FMTTYPE=text/html:<span style="color:#000000\;"><span style="font-size:14px\;"><strong>Join us for our Monthly Membership Meeting. Held on the 3rd Thursday of every month at member business location. <span style="font-family: Arial\, Verdana\, Helvetica\, sans-serif\;">Join fellow chamber members for a celebration full of fun\, games and holiday activities at Southern Hills Community Bank in Ripley. Meeting will be in-person only\, there will be no Zoom option.&nbsp\;</span></strong></span></span><br />\n<em style="font-family: verdana\; font-size: 14px\;"><strong><span style="background-color: rgb(255\, 255\, 0)\;">Registration is required.</span></strong></em>
LOCATION:Southern Hills Community Bank in Ripley
UID:e.3559.502
SEQUENCE:3
DTSTAMP:20260420T204910Z
URL:https://business.browncountyohiochamber.com/events/details/monthly-meeting-12-16-2021-502
END:VEVENT

END:VCALENDAR
