BEGIN:VCALENDAR
VERSION:2.0
PRODID:-//ChamberMaster//Event Calendar 2.0//EN
METHOD:PUBLISH
X-PUBLISHED-TTL:P3D
REFRESH-INTERVAL:P3D
CALSCALE:GREGORIAN
BEGIN:VEVENT
DTSTART:20221117T130000Z
DTEND:20221117T140000Z
X-MICROSOFT-CDO-ALLDAYEVENT:FALSE
SUMMARY:Monthly Membership Meeting
DESCRIPTION:Join us for our Monthly Membership Meeting. Held on the 3rd Thursday of every month at member business location. Come to hear updates on Chamber projects and connect/network with fellow members. Speakers covering a variety of business topics\, offers members the opportunity to increase their business know-how with a different speaker each month.
X-ALT-DESC;FMTTYPE=text/html:<span style="font-size:14px\;"><span style="font-family:arial\;">Join us for our Monthly Membership Meeting. Held on the 3rd Thursday of every month at member business location. Come to hear updates on Chamber projects and connect/network with fellow members. Speakers covering a variety of business topics\, offers members the opportunity to increase their business know-how with a different speaker each month.</span></span>
LOCATION:Brown County Board of Developmental Disabilities.
UID:e.3559.1826
SEQUENCE:3
DTSTAMP:20260421T235959Z
URL:https://business.browncountyohiochamber.com/events/details/monthly-membership-meeting-1826
END:VEVENT

END:VCALENDAR
