BEGIN:VCALENDAR
VERSION:2.0
PRODID:-//ChamberMaster//Event Calendar 2.0//EN
METHOD:PUBLISH
X-PUBLISHED-TTL:P3D
REFRESH-INTERVAL:P3D
CALSCALE:GREGORIAN
BEGIN:VEVENT
DTSTART:20220317T160000Z
DTEND:20220317T170000Z
X-MICROSOFT-CDO-ALLDAYEVENT:FALSE
SUMMARY:Monthly Membership Meeting - Grand Opening Chamber Office
DESCRIPTION:The Brown County Chamber of Commerce will be holding a grand opening of the brand new Mt. Orab office. The public is invited to celebrate the occasion and to experience the Chamber firsthand. The event will start at noon at 720 N. High St. Mt. Orab.
X-ALT-DESC;FMTTYPE=text/html:<span background-color:="" font-size:="" helvetica="" sofia="" style="color: rgb(23\, 25\, 50)\; font-family: ">The Brown County Chamber of Commerce will be holding a grand opening of the brand new Mt. Orab office. The public is invited to celebrate the occasion and to experience the Chamber firsthand. The event will start at noon at 720 N. High St. Mt. Orab.&nbsp\;</span>
LOCATION:
UID:e.3559.505
SEQUENCE:3
DTSTAMP:20260422T161922Z
URL:https://business.browncountyohiochamber.com/events/details/monthly-membership-meeting-grand-opening-chamber-office-505
END:VEVENT

END:VCALENDAR
