BEGIN:VCALENDAR
VERSION:2.0
PRODID:-//ChamberMaster//Event Calendar 2.0//EN
METHOD:PUBLISH
X-PUBLISHED-TTL:P3D
REFRESH-INTERVAL:P3D
CALSCALE:GREGORIAN
BEGIN:VEVENT
DTSTART:20210520T160000Z
DTEND:20210520T170000Z
X-MICROSOFT-CDO-ALLDAYEVENT:FALSE
SUMMARY:Monthly Membership Meeting Hosted by Brown County Rural Water
DESCRIPTION:Join us for our Monthly Membership Meeting. Held on the 3rd Thursday of every month at member business location. Come to hear updates on Chamber projects and connect/network with fellow members. Speakers covering a variety of business topics\, offers members the opportunity to increase their business know-how with a different speaker each month.
X-ALT-DESC;FMTTYPE=text/html:<span style="font-family: arial\; font-size: 14px\;">Join us for our Monthly Membership Meeting. Held on the 3rd Thursday of every month at member business location. Come to hear updates on Chamber projects and connect/network with fellow members. Speakers covering a variety of business topics\, offers members the opportunity to increase their business know-how with a different speaker each month.</span>
LOCATION:In-person meeting will be held at Brown County Rural Water. Registration is required and in-person attendance will be limited to allow social distancing. Meeting will be live streamed via Zoom as well. Please note on your registration form if you will be attending in-person or virtually?
UID:e.3559.495
SEQUENCE:3
DTSTAMP:20260424T200029Z
URL:https://business.browncountyohiochamber.com/events/details/monthly-membership-meeting-hosted-by-brown-county-rural-water-495
END:VEVENT

END:VCALENDAR
