BEGIN:VCALENDAR
VERSION:2.0
PRODID:-//ChamberMaster//Event Calendar 2.0//EN
METHOD:PUBLISH
X-PUBLISHED-TTL:P3D
REFRESH-INTERVAL:P3D
CALSCALE:GREGORIAN
BEGIN:VEVENT
DTSTART:20250320T160000Z
DTEND:20250320T170000Z
X-MICROSOFT-CDO-ALLDAYEVENT:FALSE
SUMMARY:Open House - Farm Credit Mt. Orab
DESCRIPTION:Farm Credit Mid-America has recently completed improvements to its Mt. Orab office\, and you're invited to celebrate! Stop by on Thursday\, March 20th\, between 11:00 AM   1:00 PM to see the newly renovated space\, enjoy local food\, connect with neighbors\, and enter for a chance to win prizes.\n\nA Ribbon Cutting Ceremony will take place at Noon\, marking this exciting milestone.\n\nFarm Credit Mid-America is a financial services cooperative dedicated to serving farmers\, rural businesses\, and communities. With a mission to strengthen rural America\, they provide reliable credit\, insurance\, and financial solutions tailored to the unique needs of agriculture.\n\nJoin us in celebrating this exciting occasion we look forward to seeing you there!
X-ALT-DESC;FMTTYPE=text/html:<p data-end="383" data-start="71">Farm Credit Mid-America has recently <strong data-end="134" data-start="108">completed improvements</strong> to its <strong data-end="161" data-start="142">Mt. Orab office</strong>\, and you&#39\;re invited to celebrate! Stop by on <strong data-end="231" data-start="207">Thursday\, March 20th</strong>\, between <strong data-end="263" data-start="241">11:00 AM &ndash\; 1:00 PM</strong> to see the newly renovated space\, enjoy local food\, connect with neighbors\, and enter for a chance to <strong data-end="380" data-start="366">win prizes</strong>.</p>\n\n<p data-end="478" data-start="385">A <strong data-end="414" data-start="387">Ribbon Cutting Ceremony</strong> will take place at <strong data-end="442" data-start="434">Noon</strong>\, marking this exciting milestone.</p>\n\n<p data-end="537" data-start="480"><strong data-end="566" data-start="539">Farm Credit Mid-America</strong> is a <strong data-end="606" data-start="572">financial services cooperative</strong> dedicated to serving farmers\, rural businesses\, and communities. With a mission to <strong data-end="718" data-start="690">strengthen rural America</strong>\, they provide reliable credit\, insurance\, and financial solutions tailored to the unique needs of agriculture.</p>\n\n<p data-end="918" data-is-last-node="" data-is-only-node="" data-start="833">Join us in celebrating this exciting occasion&mdash\;we look forward to seeing you there!&nbsp\;</p>\n
LOCATION:Location: 100 Grieshop St.\, Mount Orab\, OH 45154
UID:e.3559.3176
SEQUENCE:3
DTSTAMP:20260422T043728Z
URL:https://business.browncountyohiochamber.com/events/details/open-house-farm-credit-mt-orab-3176
END:VEVENT

END:VCALENDAR
