BEGIN:VCALENDAR
VERSION:2.0
PRODID:-//ChamberMaster//Event Calendar 2.0//EN
METHOD:PUBLISH
X-PUBLISHED-TTL:P3D
REFRESH-INTERVAL:P3D
CALSCALE:GREGORIAN
BEGIN:VEVENT
DTSTART:20250201T153000Z
DTEND:20250202T030000Z
X-MICROSOFT-CDO-ALLDAYEVENT:FALSE
SUMMARY:Our first ever Receipt Day! Buy Once\, Eat Twice!
DESCRIPTION:Step 1: Buy all your favorite DQ food\, cakes and treats on February 1st (Receipt Day) Step 2: SAVE your receipt Step 3: Return to DQ within 4 weeks with the receipt to receive that same amount off your new order! Offer redemption valid from February 2nd to March 1st Exceptions & Exclusion apply.
X-ALT-DESC;FMTTYPE=text/html:Step 1: Buy all your favorite DQ food\, cakes and treats on February 1st (Receipt Day) Step 2: SAVE your receipt Step 3: Return to DQ within 4 weeks with the receipt to receive that same amount off your new order! Offer redemption valid from February 2nd to March 1st Exceptions &amp\; Exclusion apply.
LOCATION:Dairy Queen Grill & Chill 101 Vandement Way Mount Orab\, OH
UID:e.3559.3167
SEQUENCE:3
DTSTAMP:20260422T044213Z
URL:https://business.browncountyohiochamber.com/events/details/our-first-ever-receipt-day-buy-once-eat-twice-3167
END:VEVENT

END:VCALENDAR
