BEGIN:VCALENDAR
VERSION:2.0
PRODID:-//ChamberMaster//Event Calendar 2.0//EN
METHOD:PUBLISH
X-PUBLISHED-TTL:P3D
REFRESH-INTERVAL:P3D
CALSCALE:GREGORIAN
BEGIN:VEVENT
DTSTART:20250412T160000Z
DTEND:20250412T180000Z
X-MICROSOFT-CDO-ALLDAYEVENT:FALSE
SUMMARY:Pictures with the Easter Bunny
DESCRIPTION:The Friends of the Mt Orab Library are putting on this event. There is no charge- donations accepted to support literacy programs like Summer Reading! You're welcome to bring your own camera\, but we also will have a person taking pictures and will be printing them off on site! Thank you Snap Fitness & The Local Coffee Bar + Cakery for teaming up to make this a success.
X-ALT-DESC;FMTTYPE=text/html:The Friends of the Mt Orab Library are putting on this event. There is no charge- donations accepted to support literacy programs like Summer Reading! You&rsquo\;re welcome to bring your own camera\, but we also will have a person taking pictures and will be printing them off on site! Thank you Snap Fitness &amp\; The Local Coffee Bar + Cakery for teaming up to make this a success.
LOCATION:The Local Coffee Bar + Cakery 309 N High St\, Ste C\, Mount Orab\, OH 45154
UID:e.3559.3180
SEQUENCE:3
DTSTAMP:20260422T031117Z
URL:https://business.browncountyohiochamber.com/events/details/pictures-with-the-easter-bunny-04-12-2025-3180
END:VEVENT

END:VCALENDAR
