BEGIN:VCALENDAR
VERSION:2.0
PRODID:-//ChamberMaster//Event Calendar 2.0//EN
METHOD:PUBLISH
X-PUBLISHED-TTL:P3D
REFRESH-INTERVAL:P3D
CALSCALE:GREGORIAN
BEGIN:VEVENT
DTSTART:20240111T200000Z
DTEND:20240111T220000Z
X-MICROSOFT-CDO-ALLDAYEVENT:FALSE
SUMMARY:R. Varney Marketing + Photography & Coldwell Banker Realty Grand Opening
DESCRIPTION:Join us for the Grand Opening of R. Varney Marketing + Photography in the Historic District of Georgetown. R. Varney Marketing + Photography was established in 2017 and opened a brick and mortar print shop in June 2023.\n\n\n\nEvent will be Open House style with a hot cocoa bar and cookies\, exclusive deals and giveaways\, and appetizers. First 100 to arrive will receive a swag bag.
X-ALT-DESC;FMTTYPE=text/html:<span style="caret-color: rgb(5\, 5\, 5)\; color: rgb(5\, 5\, 5)\; font-family: system-ui\, -apple-system\, BlinkMacSystemFont\, &quot\;.SFNSText-Regular&quot\;\, sans-serif\; font-size: 15px\;">Join us for the Grand Opening of R. Varney Marketing + Photography in the Historic District of Georgetown. R. Varney Marketing + Photography was established in 2017 and opened a brick and mortar print shop in June 2023.<br />\n<br />\nEvent will be Open House style with a hot cocoa bar and cookies\, exclusive deals and giveaways\, and appetizers. First 100 to arrive will receive a swag bag.</span>
LOCATION:203 E Grant St.\, Georgetown\, OH\, 45121
UID:e.3559.2954
SEQUENCE:3
DTSTAMP:20260424T114527Z
URL:https://business.browncountyohiochamber.com/events/details/r-varney-marketing-photography-coldwell-banker-realty-grand-opening-2954
END:VEVENT

END:VCALENDAR
