BEGIN:VCALENDAR
VERSION:2.0
PRODID:-//ChamberMaster//Event Calendar 2.0//EN
METHOD:PUBLISH
X-PUBLISHED-TTL:P3D
REFRESH-INTERVAL:P3D
CALSCALE:GREGORIAN
BEGIN:VEVENT
DTSTART:20240118T170000Z
DTEND:20240118T180000Z
X-MICROSOFT-CDO-ALLDAYEVENT:FALSE
SUMMARY:Reducing Energy Costs and Creating a Sustainability Plan for your Business
DESCRIPTION:In this free educational webinar\, you will learn:\n\n\n	Efficiency measures that can help to drive down your monthly energy bill\n	Maximizing your project ROI with funding available through a combination of federal\, state\, and local programs\n	Financing options to fit your budget and objectives (including on-bill financing)\n	Creating a sustainability plan that is practical for your business or organization\n	Electric and natural gas supply procurement strategies to lower your remaining utility costs\n\n\nIn 2023\, we've assisted customers in applying for over $2\,000\,000 in state and federal grants. Don't miss out on these project funding opportunities. Attend our webinar to learn more!\n\nThis webinar is free but limited to businesses interested in learning more about reducing energy costs. Others may attend at the discretion of the program host.
X-ALT-DESC;FMTTYPE=text/html:<p style="margin: 0px\; padding: 0px\; box-sizing: border-box\; color: rgb(111\, 114\, 135)\; font-size: 16px\; line-height: 1.5rem\; font-family: &quot\;Neue Plak&quot\;\, -apple-system\, BlinkMacSystemFont\, Roboto\, &quot\;Helvetica Neue&quot\;\, Helvetica\, Tahoma\, Arial\, sans-serif\;"><span style="font-weight: 700\; box-sizing: border-box\; padding-top: 0px\;">In this free educational webinar\, you will learn:</span></p>\n\n<ul style="margin: 0px\; padding-top: 10px\; padding-right: 0px\; padding-left: 2em\; list-style-position: initial\; list-style-image: initial\; box-sizing: border-box\; color: rgb(111\, 114\, 135)\; font-size: 16px\; line-height: 1.5rem\; font-family: &quot\;Neue Plak&quot\;\, -apple-system\, BlinkMacSystemFont\, Roboto\, &quot\;Helvetica Neue&quot\;\, Helvetica\, Tahoma\, Arial\, sans-serif\;">\n	<li style="margin: 0px\; padding: 0px\; box-sizing: border-box\;">Efficiency measures that can help to drive down your monthly energy bill</li>\n	<li style="margin: 0px\; padding: 5px 0px 0px\; box-sizing: border-box\;">Maximizing your project ROI with funding available through a combination of federal\, state\, and local programs</li>\n	<li style="margin: 0px\; padding: 5px 0px 0px\; box-sizing: border-box\;">Financing options to fit your budget and objectives (including on-bill financing)</li>\n	<li style="margin: 0px\; padding: 5px 0px 0px\; box-sizing: border-box\;">Creating a sustainability plan that is practical for your business or organization</li>\n	<li style="margin: 0px\; padding: 5px 0px 0px\; box-sizing: border-box\;">Electric and natural gas supply procurement strategies to lower your remaining utility costs</li>\n</ul>\n\n<p style="margin: 0px\; padding: 10px 0px 0px\; box-sizing: border-box\; color: rgb(111\, 114\, 135)\; font-size: 16px\; line-height: 1.5rem\; font-family: &quot\;Neue Plak&quot\;\, -apple-system\, BlinkMacSystemFont\, Roboto\, &quot\;Helvetica Neue&quot\;\, Helvetica\, Tahoma\, Arial\, sans-serif\;">In 2023\, we&#39\;ve assisted customers in applying for&nbsp\;<span style="font-weight: 700\; box-sizing: border-box\; padding-top: 0px\;">over $2\,000\,000</span>&nbsp\;in state and federal grants. Don&rsquo\;t miss out on these project funding opportunities. Attend our webinar to learn more!</p>\n\n<p style="margin: 0px\; padding: 10px 0px 0px\; box-sizing: border-box\; color: rgb(111\, 114\, 135)\; font-size: 16px\; line-height: 1.5rem\; font-family: &quot\;Neue Plak&quot\;\, -apple-system\, BlinkMacSystemFont\, Roboto\, &quot\;Helvetica Neue&quot\;\, Helvetica\, Tahoma\, Arial\, sans-serif\;"><em style="box-sizing: border-box\; padding-top: 0px\;">This webinar is free but limited to businesses interested in learning more about reducing energy costs. Others may attend at the discretion of the program host.</em></p>\n
LOCATION:Virtual
UID:e.3559.2953
SEQUENCE:3
DTSTAMP:20260424T114120Z
URL:https://business.browncountyohiochamber.com/events/details/reducing-energy-costs-and-creating-a-sustainability-plan-for-your-business-2953
END:VEVENT

END:VCALENDAR
