BEGIN:VCALENDAR
VERSION:2.0
PRODID:-//ChamberMaster//Event Calendar 2.0//EN
METHOD:PUBLISH
X-PUBLISHED-TTL:P3D
REFRESH-INTERVAL:P3D
CALSCALE:GREGORIAN
BEGIN:VEVENT
DTSTART:20250315T193000Z
DTEND:20250315T203000Z
X-MICROSOFT-CDO-ALLDAYEVENT:FALSE
SUMMARY:Ribbon Cutting Benchmark Inn - Augusta
DESCRIPTION:Join us as we celebrate the Grand Opening of Benchmark Inn in Augusta\, KY!\n\nCome enjoy:\n\n  Refreshments\n\n  A tour of the newly renovated hotel\n\n  Meet the new owners and staff\n\n  Exciting giveaways
X-ALT-DESC;FMTTYPE=text/html:Join us as we celebrate the <strong data-end="73" data-start="56">Grand Opening</strong> of <strong data-end="94" data-start="77">Benchmark Inn</strong> in Augusta\, KY!<br />\nCome enjoy:<br data-end="247" data-start="244" />\n&#11088\; Refreshments<br data-end="264" data-start="261" />\n&#11088\; A tour of the newly renovated hotel<br data-end="304" data-start="301" />\n&#11088\; Meet the new owners and staff<br data-end="338" data-start="335" />\n&#11088\; Exciting giveaways
LOCATION:103 W 2nd St\, Augusta\, KY
UID:e.3559.3175
SEQUENCE:3
DTSTAMP:20260422T043636Z
URL:https://business.browncountyohiochamber.com/events/details/ribbon-cutting-benchmark-inn-augusta-3175
END:VEVENT

END:VCALENDAR
