BEGIN:VCALENDAR
VERSION:2.0
PRODID:-//ChamberMaster//Event Calendar 2.0//EN
METHOD:PUBLISH
X-PUBLISHED-TTL:P3D
REFRESH-INTERVAL:P3D
CALSCALE:GREGORIAN
BEGIN:VEVENT
DTSTART:20250220T180000Z
DTEND:20250220T183000Z
X-MICROSOFT-CDO-ALLDAYEVENT:FALSE
SUMMARY:Ribbon Cutting for River Front Batting Cages
DESCRIPTION:Grand Opening/Ribbon Cutting for Riverfront Batting Cages
X-ALT-DESC;FMTTYPE=text/html:Grand Opening/Ribbon Cutting for Riverfront Batting Cages
LOCATION:1576 US. Highway 52 Aberdeen\, OH (right behind DQ)
UID:e.3559.3169
SEQUENCE:3
DTSTAMP:20260422T045448Z
URL:https://business.browncountyohiochamber.com/events/details/ribbon-cutting-for-river-front-batting-cages-3169
END:VEVENT

END:VCALENDAR
