BEGIN:VCALENDAR
VERSION:2.0
PRODID:-//ChamberMaster//Event Calendar 2.0//EN
METHOD:PUBLISH
X-PUBLISHED-TTL:P3D
REFRESH-INTERVAL:P3D
CALSCALE:GREGORIAN
BEGIN:VEVENT
DTSTART:20260722T193000Z
DTEND:20260722T210000Z
X-MICROSOFT-CDO-ALLDAYEVENT:FALSE
SUMMARY:Rural Connections - Brown County
DESCRIPTION:Expand Your Network Across Five Counties!\n\nJoin the Chambers of Adams\, Brown\, Clermont\, Highland\, and Wilmington-Clinton Counties for this popular multi-county networking series:\n\n  Connect with professionals\n\n  Build cross-county relationships\n\n  Explore partnership opportunities\n\nSave the Dates:\n\n\n	\n	May 27   RJ Theaters (Clermont) 2026 Business After Hours: Rural Connections - Clermont County -Events - Clermont Chamber of Commerce\n	\n	\n	June    The Porch (Highland)  Rural Connections: Highland Chamber hosting at The Porch Carryout & Grill - Jun 17\, 2026\n	\n	\n	July 30   Sons of Toil (Brown)\n	\n	Wilmington/Clinton Chamber - TBD\n	 Adams County Chamber - TBD\n\n\nRegister today and grow your network!
X-ALT-DESC;FMTTYPE=text/html:<div style="margin: 0px\; padding: 0px\; border: 0px\; outline: 0px\; font-size: 14px\; vertical-align: baseline\; background: rgb(255\, 255\, 255)\; font-family: Arial\; font-variant-numeric: inherit\; font-variant-east-asian: inherit\;">\n<div _ngcontent-ng-c1617571438="" class="response-container-content ng-tns-c1617571438-81 tunable-selection-with-avatar" selection="" style="margin: 0px\; padding: 0px\; border: 0px\; outline: 0px\; vertical-align: baseline\; background: transparent\;">\n<div _ngcontent-ng-c2156895314="" class="response-content ng-tns-c1617571438-81" style="margin: 0px\; padding: 0px\; border: 0px\; outline: 0px\; vertical-align: baseline\; background: transparent\;"><span style="margin: 0px\; padding: 0px\; border: 0px\; outline: 0px\; font-size: 10pt\; vertical-align: baseline\; background: transparent\; box-sizing: border-box\; color: rgb(68\, 68\, 68)\; font-family: arial\; text-align: center\;"><span style="margin: 0px\; padding: 0px\; border: 0px\; outline: 0px\; font-size: 16px\; vertical-align: baseline\; background: transparent\; box-sizing: border-box\;"><span style="margin: 0px\; padding: 0px\; border: 0px\; outline: 0px\; font-size: 14px\; vertical-align: baseline\; background: transparent\; box-sizing: border-box\;"><span style="margin: 0px\; padding: 0px\; border: 0px\; outline: 0px\; vertical-align: baseline\; background: transparent\; box-sizing: border-box\;"><span style="margin: 0px\; padding: 0px\; border: 0px\; outline: 0px\; vertical-align: baseline\; background: transparent\; box-sizing: border-box\;"><span style="margin: 0px\; padding: 0px\; border: 0px\; outline: 0px\; vertical-align: baseline\; background: transparent\; box-sizing: border-box\;"><span style="margin: 0px\; padding: 0px\; border: 0px\; outline: 0px\; font-size: 13.3333px\; vertical-align: baseline\; background: transparent\; box-sizing: border-box\;"><span style="margin: 0px\; padding: 0px\; border: 0px\; outline: 0px\; font-size: 14px\; vertical-align: baseline\; background: transparent\; box-sizing: border-box\;"><message-content _ngcontent-ng-c2156895314="" _nghost-ng-c2786029086="" class="model-response-text ng-star-inserted" id="message-content-id-r_309cb9c79d600c00" style="height: auto\;">\n<div _ngcontent-ng-c2786029086="" class="markdown markdown-main-panel" style="margin: 0px\; padding: 0px\; border: 0px\; outline: 0px\; vertical-align: baseline\; background: transparent\; --animation-duration: 600ms\; --fade-animation-function: linear\; --first-token-animation-duration: 600ms\;">\n<h2 data-sourcepos="1:1-1:44" style="text-align: left\;">&nbsp\;</h2>\n</div>\n</message-content></span></span></span></span></span></span></span></span>\n\n<p data-end="101" data-start="56"><strong data-end="101" data-start="56">Expand Your Network Across Five&nbsp\;Counties!</strong></p>\n\n<p data-end="231" data-start="103">Join the Chambers of Adams\, Brown\, Clermont\, Highland\, and Wilmington-Clinton Counties for this popular multi-county networking series:</p>\n\n<p data-end="341" data-start="233">&#129309\; Connect with professionals<br data-end="265" data-start="262" />\n&#127760\; Build cross-county relationships<br data-end="303" data-start="300" />\n&#128161\; Explore partnership opportunities</p>\n\n<p data-end="364" data-start="343"><strong data-end="362" data-start="343">Save the Dates:</strong></p>\n\n<ul data-end="529" data-start="365">\n	<li data-end="404" data-start="365">\n	<p data-end="404" data-start="367"><strong data-end="377" data-start="367">May 27</strong>&nbsp\;&ndash\; RJ Theaters (Clermont) 2026<a href="https://business.clermontchamber.com/eventcalendar/Details/2026-business-after-hours-rural-connections-clermont-county-1611954?sourceTypeId=Hub">&nbsp\;Business After Hours: Rural Connections - Clermont County -Events - Clermont Chamber of Commerce</a></p>\n	</li>\n	<li data-end="443" data-start="405">\n	<p data-end="443" data-start="407"><strong data-end="418" data-start="407">June </strong>&nbsp\;&ndash\; The Porch (Highland)&nbsp\;&nbsp\;<a href="https://business.thehighlandchamber.com/events/details/rural-connections-highland-chamber-hosting-at-the-porch-carryout-grill-1013?calendarMonth=2026-06-01">Rural Connections: Highland Chamber hosting at The Porch Carryout &amp\; Grill - Jun 17\, 2026</a></p>\n	</li>\n	<li data-end="482" data-start="444">\n	<p data-end="482" data-start="446"><strong data-end="457" data-start="446">July 30</strong> &ndash\; Sons of Toil (Brown)</p>\n	</li>\n	<li data-end="529" data-start="485">Wilmington/Clinton Chamber - TBD</li>\n	<li data-end="529" data-start="485">&#8203\;Adams County Chamber - TBD</li>\n</ul>\n\n<p data-end="572" data-start="531"><strong data-end="572" data-start="531">Register today and grow your network!</strong></p>\n<span style="margin: 0px\; padding: 0px\; border: 0px\; outline: 0px\; font-size: 10pt\; vertical-align: baseline\; background: transparent\; box-sizing: border-box\; color: rgb(68\, 68\, 68)\; font-family: arial\; text-align: center\;"><span style="margin: 0px\; padding: 0px\; border: 0px\; outline: 0px\; font-size: 16px\; vertical-align: baseline\; background: transparent\; box-sizing: border-box\;"><span style="margin: 0px\; padding: 0px\; border: 0px\; outline: 0px\; font-size: 14px\; vertical-align: baseline\; background: transparent\; box-sizing: border-box\;"><span style="margin: 0px\; padding: 0px\; border: 0px\; outline: 0px\; vertical-align: baseline\; background: transparent\; box-sizing: border-box\;"><span style="margin: 0px\; padding: 0px\; border: 0px\; outline: 0px\; vertical-align: baseline\; background: transparent\; box-sizing: border-box\;"><span style="margin: 0px\; padding: 0px\; border: 0px\; outline: 0px\; vertical-align: baseline\; background: transparent\; box-sizing: border-box\;"><span style="margin: 0px\; padding: 0px\; border: 0px\; outline: 0px\; font-size: 13.3333px\; vertical-align: baseline\; background: transparent\; box-sizing: border-box\;"><span style="margin: 0px\; padding: 0px\; border: 0px\; outline: 0px\; font-size: 14px\; vertical-align: baseline\; background: transparent\; box-sizing: border-box\;"><message-content _ngcontent-ng-c2156895314="" _nghost-ng-c2786029086="" class="model-response-text ng-star-inserted" style="height: auto\;">\n<div _ngcontent-ng-c2786029086="" class="markdown markdown-main-panel" style="margin: 0px\; padding: 0px\; border: 0px\; outline: 0px\; vertical-align: baseline\; background: transparent\; --animation-duration: 600ms\; --fade-animation-function: linear\; --first-token-animation-duration: 600ms\;">\n<h2 data-sourcepos="1:1-1:44" style="text-align: left\;">&nbsp\;</h2>\n</div>\n</message-content></span></span></span></span></span></span></span></span></div>\n</div>\n</div>\n\n<div style="margin: 0px\; padding: 0px\; border: 0px\; outline: 0px\; font-size: 10pt\; vertical-align: baseline\; background: rgb(255\, 255\, 255)\; font-family: Arial\; font-variant-numeric: inherit\; font-variant-east-asian: inherit\;">&nbsp\;</div>\n\n<div style="margin: 0px\; padding: 0px\; border: 0px\; outline: 0px\; font-size: 10pt\; vertical-align: baseline\; background: rgb(255\, 255\, 255)\; font-family: Arial\; font-variant-numeric: inherit\; font-variant-east-asian: inherit\;">&nbsp\;</div>\n
LOCATION:Sons of Toil Brewery 14090 Klein Road Mt. Orab\, OH 45154
UID:e.3559.3216
SEQUENCE:3
DTSTAMP:20260423T180557Z
URL:https://business.browncountyohiochamber.com/events/details/rural-connections-brown-county-date-3216
END:VEVENT

END:VCALENDAR
