BEGIN:VCALENDAR
VERSION:2.0
PRODID:-//ChamberMaster//Event Calendar 2.0//EN
METHOD:PUBLISH
X-PUBLISHED-TTL:P3D
REFRESH-INTERVAL:P3D
CALSCALE:GREGORIAN
BEGIN:VEVENT
DTSTART:20241010T193000Z
DTEND:20241010T210000Z
X-MICROSOFT-CDO-ALLDAYEVENT:FALSE
SUMMARY:Rural Connections - Business after Hours
DESCRIPTION:Expand Your Network Across Three Counties! \n\nJoin us for "Business After Hours: Rural Connections" at Sons of Toil Brewery!\n\nThis event\, co-hosted by the Clermont County\, Brown County\, and Highland County Chambers of Commerce\, is your chance to:\n\n\n\n	Connect with business professionals and members from a wider network.\n	Build valuable relationships across county lines.\n	Discover new partnership opportunities.\n	Enjoy a relaxed and social atmosphere.\n\n\n\n\nThis informal gathering is a perfect way to make connections and grow your business. Don't miss out! Mark your calendar and register today.\n\n\n\n\n\n\n \n\n*THIS IS A COMPLIMENTARY\, MEMBERS ONLY EVENT.
X-ALT-DESC;FMTTYPE=text/html:<div style="margin: 0px\; padding: 0px\; border: 0px\; outline: 0px\; font-size: 14px\; vertical-align: baseline\; background: rgb(255\, 255\, 255)\; font-family: Arial\; font-variant-numeric: inherit\; font-variant-east-asian: inherit\;">\n<div _ngcontent-ng-c1617571438="" class="response-container-content ng-tns-c1617571438-81 tunable-selection-with-avatar" selection="" style="margin: 0px\; padding: 0px\; border: 0px\; outline: 0px\; vertical-align: baseline\; background: transparent\;">\n<div _ngcontent-ng-c2156895314="" class="response-content ng-tns-c1617571438-81" style="margin: 0px\; padding: 0px\; border: 0px\; outline: 0px\; vertical-align: baseline\; background: transparent\;"><span style="margin: 0px\; padding: 0px\; border: 0px\; outline: 0px\; font-size: 10pt\; vertical-align: baseline\; background: transparent\; box-sizing: border-box\; color: rgb(68\, 68\, 68)\; font-family: arial\; text-align: center\;"><span style="margin: 0px\; padding: 0px\; border: 0px\; outline: 0px\; font-size: 16px\; vertical-align: baseline\; background: transparent\; box-sizing: border-box\;"><span style="margin: 0px\; padding: 0px\; border: 0px\; outline: 0px\; font-size: 14px\; vertical-align: baseline\; background: transparent\; box-sizing: border-box\;"><span style="margin: 0px\; padding: 0px\; border: 0px\; outline: 0px\; vertical-align: baseline\; background: transparent\; box-sizing: border-box\;"><span style="margin: 0px\; padding: 0px\; border: 0px\; outline: 0px\; vertical-align: baseline\; background: transparent\; box-sizing: border-box\;"><span style="margin: 0px\; padding: 0px\; border: 0px\; outline: 0px\; vertical-align: baseline\; background: transparent\; box-sizing: border-box\;"><span style="margin: 0px\; padding: 0px\; border: 0px\; outline: 0px\; font-size: 13.3333px\; vertical-align: baseline\; background: transparent\; box-sizing: border-box\;"><span style="margin: 0px\; padding: 0px\; border: 0px\; outline: 0px\; font-size: 14px\; vertical-align: baseline\; background: transparent\; box-sizing: border-box\;"><message-content _ngcontent-ng-c2156895314="" _nghost-ng-c2786029086="" class="model-response-text ng-star-inserted" id="message-content-id-r_309cb9c79d600c00" style="height: auto\;">\n<div _ngcontent-ng-c2786029086="" class="markdown markdown-main-panel" style="margin: 0px\; padding: 0px\; border: 0px\; outline: 0px\; vertical-align: baseline\; background: transparent\; --animation-duration: 600ms\; --fade-animation-function: linear\; --first-token-animation-duration: 600ms\;">\n<h2 data-sourcepos="1:1-1:44" style="text-align: left\;"><font face="Verdana"><font size="4">Expand Your Network Across Three Counties!&nbsp\;</font></font></h2>\n\n<h2 data-sourcepos="1:1-1:44" style="text-align: left\;"><font face="Verdana"><font size="2" style="font-weight: normal\;">Join us for &quot\;Business After Hours: Rural Connections&quot\; at&nbsp\;<a href="https://www.sonsoftoilbrewing.com/" style="margin: 0px\; padding: 0px\; font-size: 13px\; vertical-align: baseline\; color: rgb(255\, 0\, 0)\; border: 0px\; outline: 0px\; text-decoration-line: none\;" target="_blank">Sons of Toil Brewery</a>!</font></font></h2>\n\n<div style="margin: 0px\; padding: 0px\; border: 0px\; outline: 0px\; font-size: 10pt\; vertical-align: baseline\; background: transparent\; text-align: left\;"><font face="Verdana">This event\, co-hosted by the Clermont County\, Brown County\, and Highland County Chambers of Commerce\, is your chance to:</font></div>\n\n<div style="margin: 0px\; padding: 0px\; border: 0px\; outline: 0px\; font-size: 10pt\; vertical-align: baseline\; background: transparent\;">\n<ul data-sourcepos="7:1-11:0" style="margin: 10px 0px 0px 20px\; padding: 0px\; border: 0px\; outline: 0px\; font-size: 13.3333px\; vertical-align: baseline\; background: transparent\; list-style: square\;">\n	<li data-sourcepos="7:1-7:64" style="margin: 0px\; padding: 0px\; border: 0px\; outline: 0px\; font-size: 13.3333px\; vertical-align: baseline\; background: transparent\; text-align: left\;"><font face="Verdana"><b style="margin: 0px\; padding: 0px\; border: 0px\; outline: 0px\; font-size: 13.3333px\; vertical-align: baseline\; background: transparent\;">Connect&nbsp\;</b>with business professionals and members from a wider network.</font></li>\n	<li data-sourcepos="8:1-8:56" style="margin: 0px\; padding: 0px\; border: 0px\; outline: 0px\; font-size: 13.3333px\; vertical-align: baseline\; background: transparent\; text-align: left\;"><font face="Verdana"><b style="margin: 0px\; padding: 0px\; border: 0px\; outline: 0px\; font-size: 13.3333px\; vertical-align: baseline\; background: transparent\;">Build&nbsp\;</b>valuable relationships across county lines.</font></li>\n	<li data-sourcepos="9:1-9:46" style="margin: 0px\; padding: 0px\; border: 0px\; outline: 0px\; font-size: 13.3333px\; vertical-align: baseline\; background: transparent\; text-align: left\;"><font face="Verdana"><b style="margin: 0px\; padding: 0px\; border: 0px\; outline: 0px\; font-size: 13.3333px\; vertical-align: baseline\; background: transparent\;">Discover&nbsp\;</b>new partnership opportunities.</font></li>\n	<li data-sourcepos="10:1-11:0" style="margin: 0px\; padding: 0px\; border: 0px\; outline: 0px\; font-size: 13.3333px\; vertical-align: baseline\; background: transparent\; text-align: left\;"><font face="Verdana"><b style="margin: 0px\; padding: 0px\; border: 0px\; outline: 0px\; font-size: 13.3333px\; vertical-align: baseline\; background: transparent\;">Enjoy&nbsp\;</b>a relaxed and social atmosphere.</font></li>\n</ul>\n\n<p data-sourcepos="12:1-13:85" style="margin: 0px\; padding: 0px\; border: 0px\; outline: 0px\; font-size: 13.3333px\; vertical-align: baseline\; background: transparent\; text-align: left\;"><br />\n<font face="Verdana">This informal gathering is a perfect way to make connections and grow your business.&nbsp\;<span style="margin: 0px\; padding: 0px\; border: 0px\; outline: 0px\; font-size: 10pt\; vertical-align: baseline\; background: transparent\;">Don&#39\;t miss out! Mark your calendar and register today.</span></font></p>\n</div>\n</div>\n</message-content></span></span></span></span></span></span></span></span></div>\n</div>\n</div>\n\n<div style="margin: 0px\; padding: 0px\; border: 0px\; outline: 0px\; font-size: 10pt\; vertical-align: baseline\; background: rgb(255\, 255\, 255)\; font-family: Arial\; font-variant-numeric: inherit\; font-variant-east-asian: inherit\;">&nbsp\;</div>\n\n<div style="margin: 0px\; padding: 0px\; border: 0px\; outline: 0px\; font-size: 10pt\; vertical-align: baseline\; background: rgb(255\, 255\, 255)\; font-family: Arial\; font-variant-numeric: inherit\; font-variant-east-asian: inherit\;"><span style="margin: 0px\; padding: 0px\; border: 0px\; outline: 0px\; font-size: 10pt\; vertical-align: baseline\; background: transparent\; box-sizing: border-box\; color: rgb(68\, 68\, 68)\; font-family: arial\; text-align: center\;"><span style="margin: 0px\; padding: 0px\; border: 0px\; outline: 0px\; font-size: 16px\; vertical-align: baseline\; background: transparent\; box-sizing: border-box\;"><span style="margin: 0px\; padding: 0px\; border: 0px\; outline: 0px\; font-size: 14px\; vertical-align: baseline\; background: transparent\; box-sizing: border-box\;"><span style="margin: 0px\; padding: 0px\; border: 0px\; outline: 0px\; vertical-align: baseline\; background: transparent\; box-sizing: border-box\;"><span style="margin: 0px\; padding: 0px\; border: 0px\; outline: 0px\; vertical-align: baseline\; background: transparent\; box-sizing: border-box\;"><span style="margin: 0px\; padding: 0px\; border: 0px\; outline: 0px\; vertical-align: baseline\; background: transparent\; box-sizing: border-box\;"><span style="margin: 0px\; padding: 0px\; border: 0px\; outline: 0px\; font-size: 13.3333px\; vertical-align: baseline\; background: transparent\; box-sizing: border-box\;"><span style="margin: 0px\; padding: 0px\; border: 0px\; outline: 0px\; font-size: 14px\; vertical-align: baseline\; background: transparent\; box-sizing: border-box\;"><font face="Verdana" size="2">*THIS IS A&nbsp\;COMPLIMENTARY\, MEMBERS ONLY EVENT.</font></span></span></span></span></span></span></span></span></div>\n
LOCATION:Sons of Toil Brewery 14090 Klein Road Mt. Orab\, OH 45154
UID:e.3559.3027
SEQUENCE:3
DTSTAMP:20260422T115300Z
URL:https://business.browncountyohiochamber.com/events/details/rural-connections-business-after-hours-3027
END:VEVENT

END:VCALENDAR
