BEGIN:VCALENDAR
VERSION:2.0
PRODID:-//ChamberMaster//Event Calendar 2.0//EN
METHOD:PUBLISH
X-PUBLISHED-TTL:P3D
REFRESH-INTERVAL:P3D
CALSCALE:GREGORIAN
BEGIN:VEVENT
DTSTART:20240111T143000Z
DTEND:20240111T170000Z
X-MICROSOFT-CDO-ALLDAYEVENT:FALSE
SUMMARY:Social Media Essentials for Small Business Success In Person
DESCRIPTION:Don't just tell your brand's story\, tell it right. Learn to develop a results driven social media strategy perfectly adapted to each major social media platform. Create a strategy that assures your brand is telling the right story in the right context.\n\n \n\nBy leveraging social media in the right ways\, you can reach new audiences\, grow your following\, and reach massive success. Get more followers\, likes\, shares\, comments\, retweets and more.\n\n \n\nThis class will share:\n\n\n	Do's and Don'ts\n	Tips and Tricks\n	Best Practices\n	The Pros and Cons of Using Social in Business\n	How Social Impacts Your Search Engine Optimizatio
X-ALT-DESC;FMTTYPE=text/html:<div align="left" style="font-size: 16px\; caret-color: rgb(70\, 70\, 72)\; color: rgb(70\, 70\, 72)\; font-family: Arial\, Verdana\, Helvetica\, sans-serif\;"><span style="color: rgb(51\, 51\, 51)\;">Don&#39\;t just tell your brand&#39\;s story\, tell it right. Learn to develop a results driven social media strategy perfectly adapted to each major social media platform. Create a strategy that assures your brand is telling the right story in the right context.</span></div>\n\n<div align="left" style="font-size: 16px\; caret-color: rgb(70\, 70\, 72)\; color: rgb(70\, 70\, 72)\; font-family: Arial\, Verdana\, Helvetica\, sans-serif\;">&nbsp\;</div>\n\n<div align="left" style="font-size: 16px\; caret-color: rgb(70\, 70\, 72)\; color: rgb(70\, 70\, 72)\; font-family: Arial\, Verdana\, Helvetica\, sans-serif\;"><span style="color: rgb(51\, 51\, 51)\;">By leveraging social media in the right ways\,&nbsp\;you can reach new audiences\, grow your following\, and reach massive success. Get more followers\, likes\, shares\, comments\, retweets and more.</span></div>\n\n<div align="left" style="font-size: 16px\; caret-color: rgb(70\, 70\, 72)\; color: rgb(70\, 70\, 72)\; font-family: Arial\, Verdana\, Helvetica\, sans-serif\;">&nbsp\;</div>\n\n<div align="left" style="font-size: 16px\; caret-color: rgb(70\, 70\, 72)\; color: rgb(70\, 70\, 72)\; font-family: Arial\, Verdana\, Helvetica\, sans-serif\;"><span style="color: rgb(51\, 51\, 51)\;">This class will share:</span></div>\n\n<ul style="font-size: 16px\; padding-right: 0px\; padding-left: 0px\; margin: 0px 0px 0px 40px\; caret-color: rgb(70\, 70\, 72)\; color: rgb(70\, 70\, 72)\; font-family: Arial\, Verdana\, Helvetica\, sans-serif\; text-align: center\;">\n	<li style="padding: 0px\; margin: 0px\; line-height: 1.2\; color: rgb(51\, 51\, 51)\; text-align: left\;">Do&rsquo\;s and Don&rsquo\;ts</li>\n	<li style="padding: 0px\; margin: 0px\; line-height: 1.2\; color: rgb(51\, 51\, 51)\; text-align: left\;">Tips and Tricks</li>\n	<li style="padding: 0px\; margin: 0px\; line-height: 1.2\; color: rgb(51\, 51\, 51)\; text-align: left\;">Best Practices</li>\n	<li style="padding: 0px\; margin: 0px\; line-height: 1.2\; color: rgb(51\, 51\, 51)\; text-align: left\;">The Pros and Cons of Using Social in Business</li>\n	<li style="padding: 0px\; margin: 0px\; line-height: 1.2\; color: rgb(51\, 51\, 51)\; text-align: left\;">How Social Impacts Your Search Engine Optimizatio</li>\n</ul>\n
LOCATION:(co)-co-labr8 in Mason\, OH
UID:e.3559.2955
SEQUENCE:3
DTSTAMP:20260424T114319Z
URL:https://business.browncountyohiochamber.com/events/details/social-media-essentials-for-small-business-success-in-person-2955
END:VEVENT

END:VCALENDAR
