BEGIN:VCALENDAR
VERSION:2.0
PRODID:-//ChamberMaster//Event Calendar 2.0//EN
METHOD:PUBLISH
X-PUBLISHED-TTL:P3D
REFRESH-INTERVAL:P3D
CALSCALE:GREGORIAN
BEGIN:VEVENT
DTSTART:20250222T183000Z
DTEND:20250222T210000Z
X-MICROSOFT-CDO-ALLDAYEVENT:FALSE
SUMMARY:The General Speaks: Confederate Officers Ulysses Knew
DESCRIPTION:From 10am-2pm visitors can enjoy free tours of the US Grant Boyhood Home as well as the Grant Schoolhouse\, visit our local Grant statues\, and see 4 amazing Grant murals! Feel free to grab lunch at a local restaurant during this time. Beginning at 1:30pm\, at the Gaslight Theater\, 301 S. Main St\, in Georgetown\, the program will be opened with period music by Harriet Groh Accompanied by Brian Frebis. From 2pm-4pm General Grant (Curt Fields) will present "The Confederate Officers Ulysses Knew"\, a free program including a "Q & A" session! Following the presentation the USGHA welcomes visitors to attend a "membership" meeting at the theater.
X-ALT-DESC;FMTTYPE=text/html:From 10am-2pm visitors can enjoy free tours of the US Grant Boyhood Home as well as the Grant Schoolhouse\, visit our local Grant statues\, and see 4 amazing Grant murals! Feel free to grab lunch at a local restaurant during this time. Beginning at 1:30pm\, at the Gaslight Theater\, 301 S. Main St\, in Georgetown\, the program will be opened with period music by Harriet Groh Accompanied by Brian Frebis. From 2pm-4pm General Grant (Curt Fields) will present &quot\;The Confederate Officers Ulysses Knew&quot\;\, a free program including a &quot\;Q &amp\; A&quot\; session! Following the presentation the USGHA welcomes visitors to attend a &quot\;membership&quot\; meeting at the theater.
LOCATION:Gaslight Theater 301 S. Main St\, Georgetown\, Ohio
UID:e.3559.3172
SEQUENCE:3
DTSTAMP:20260422T065428Z
URL:https://business.browncountyohiochamber.com/events/details/the-general-speaks-confederate-officers-ulysses-knew-3172
END:VEVENT

END:VCALENDAR
