BEGIN:VCALENDAR
VERSION:2.0
PRODID:-//ChamberMaster//Event Calendar 2.0//EN
METHOD:PUBLISH
X-PUBLISHED-TTL:P3D
REFRESH-INTERVAL:P3D
CALSCALE:GREGORIAN
BEGIN:VEVENT
DTSTART:20250426T140000Z
DTEND:20250426T210000Z
X-MICROSOFT-CDO-ALLDAYEVENT:FALSE
SUMMARY:US Grant Days: More Seldom Told Stories
DESCRIPTION:SATURDAY\, APRIL 26\, 2025 10AM-12NOON PERIOD MUSIC MORE OF GRANT'S SELDOM TOLD STORIES DR. CURT FIELDS "ULYSSES' SIBLINGS\, ULYSSES LOVES JULIA\, & ULYSSES' SENSE OF HUMOR" GASLIGHT THEATER 301 S. MAIN ST GEORGETOWN\, OH 12NOON-1PM LUNCH & CAKE FOR DONATION GEORGETOWN UNITED METHODIST CHURCH FELLOWSHIP HALL 217 S. MAIN ST GEORGETOWN\, OH 1PM-5PM FREE TOURS OF HISTORIC SITES VISIT 4 GRANT MURALS\, 2 STATUES\, & MORGAN RAID MARKER ALL EVENTS FREE & OPEN TO THE PUBLIC
X-ALT-DESC;FMTTYPE=text/html:SATURDAY\, APRIL 26\, 2025 10AM-12NOON PERIOD MUSIC MORE OF GRANT&rsquo\;S SELDOM TOLD STORIES DR. CURT FIELDS &ldquo\;ULYSSES&rsquo\; SIBLINGS\, ULYSSES LOVES JULIA\, &amp\; ULYSSES&rsquo\; SENSE OF HUMOR&rdquo\; GASLIGHT THEATER 301 S. MAIN ST GEORGETOWN\, OH 12NOON-1PM LUNCH &amp\; CAKE FOR DONATION GEORGETOWN UNITED METHODIST CHURCH FELLOWSHIP HALL 217 S. MAIN ST GEORGETOWN\, OH 1PM-5PM FREE TOURS OF HISTORIC SITES VISIT 4 GRANT MURALS\, 2 STATUES\, &amp\; MORGAN RAID MARKER ALL EVENTS FREE &amp\; OPEN TO THE PUBLIC
LOCATION:Gaslight Theater 301 S Main St Georgetown Ohio
UID:e.3559.3174
SEQUENCE:3
DTSTAMP:20260422T031012Z
URL:https://business.browncountyohiochamber.com/events/details/us-grant-days-more-seldom-told-stories-3174
END:VEVENT

END:VCALENDAR
