BEGIN:VCALENDAR
VERSION:2.0
PRODID:-//ChamberMaster//Event Calendar 2.0//EN
METHOD:PUBLISH
X-PUBLISHED-TTL:P3D
REFRESH-INTERVAL:P3D
CALSCALE:GREGORIAN
BEGIN:VEVENT
DTSTART;VALUE=DATE:20200601
DTEND;VALUE=DATE:20200602
TRANSP:TRANSPARENT
X-MICROSOFT-CDO-ALLDAYEVENT:TRUE
SUMMARY:BCWH 2020 Women's Wellness Challenge
DESCRIPTION:Wellness Challenge. Brown County Women's Health is challenging Overweight and Obese women to get more health. There will be winners monthly\, quarterly and for the year for the woman with the biggest weight lose at each step. See rules on our website\, bcwh.org
X-ALT-DESC;FMTTYPE=text/html:Wellness Challenge. Brown County Women&#39\;s Health is challenging Overweight and Obese women to get more health. There will be winners monthly\, quarterly and for the year for the woman with the biggest weight lose at each step. See rules on our website\, bcwh.org
LOCATION:Brown County Women's Health to get weighed and her waist measured. 864 S. Main St Georgetown\, OH
UID:e.3559.708
SEQUENCE:3
DTSTAMP:20260423T085008Z
URL:https://business.browncountyohiochamber.com/events/details/wellness-challenge-06-01-2020-708
END:VEVENT

END:VCALENDAR
