BEGIN:VCALENDAR
VERSION:2.0
PRODID:-//ChamberMaster//Event Calendar 2.0//EN
METHOD:PUBLISH
X-PUBLISHED-TTL:P3D
REFRESH-INTERVAL:P3D
CALSCALE:GREGORIAN
BEGIN:VEVENT
DTSTART:20250605T220000Z
DTEND:20250605T230000Z
X-MICROSOFT-CDO-ALLDAYEVENT:FALSE
SUMMARY:Your Money\, Your Future A guide to Personal Financial Success
DESCRIPTION:Event Description: Your Money\, Your Future\n\nTake control of your financial future!\n\nJoin us for Your Money\, Your Future: A Guide to Personal Financial Success a free\, in-person workshop hosted by the Brown County Chamber of Commerce.\n\nThis engaging session will cover the essentials of personal finance\, including:\n\n\n	\n	Budgeting and managing expenses\n	\n	\n	Building savings\n	\n	\n	Smart strategies for investing\n	\n	\n	Planning for long-term financial success\n	\n\n\nWhether you're just starting your financial journey or looking to sharpen your skills\, this session offers practical tools for every stage of life.\n\n\n\n\n\n \n\nFor more information\, call or text Matt at (513) 519-1554.
X-ALT-DESC;FMTTYPE=text/html:<h3 data-end="191" data-start="140">&#128227\; Event Description: <em data-end="191" data-start="166">Your Money\, Your Future</em></h3>\n\n<p data-end="389" data-start="193"><strong data-end="235" data-start="193">Take control of your financial future!</strong><br data-end="238" data-start="235" />\nJoin us for <em data-end="314" data-start="250">Your Money\, Your Future: A Guide to Personal Financial Success</em>&mdash\;a free\, in-person workshop hosted by the Brown County Chamber of Commerce.</p>\n\n<p data-end="470" data-start="391">This engaging session will cover the essentials of personal finance\, including:</p>\n\n<ul data-end="599" data-start="471">\n	<li data-end="504" data-start="471">\n	<p data-end="504" data-start="473">Budgeting and managing expenses</p>\n	</li>\n	<li data-end="523" data-start="505">\n	<p data-end="523" data-start="507">Building savings</p>\n	</li>\n	<li data-end="556" data-start="524">\n	<p data-end="556" data-start="526">Smart strategies for investing</p>\n	</li>\n	<li data-end="599" data-start="557">\n	<p data-end="599" data-start="559">Planning for long-term financial success</p>\n	</li>\n</ul>\n\n<p data-end="748" data-start="601">Whether you&#39\;re just starting your financial journey or looking to sharpen your skills\, this session offers practical tools for every stage of life.</p>\n\n<p data-end="920" data-start="750"><br data-end="805" data-start="802" />\n<br data-end="880" data-start="877" />\n&nbsp\;</p>\n\n<p data-end="984" data-start="922">For more information\, call or text <strong data-end="983" data-start="957">Matt at (513) 519-1554</strong>.</p>\n
LOCATION:Location: Brown County ESC\, 9231-B Hamer Rd\, Georgetown\, OH 45121
UID:e.3559.3184
SEQUENCE:3
DTSTAMP:20260422T104434Z
URL:https://business.browncountyohiochamber.com/events/details/your-money-your-future-a-guide-to-personal-financial-success-3184
END:VEVENT

END:VCALENDAR
